BEGIN:VCALENDAR
VERSION:2.0
PRODID:-//Avail Cannabis - ECPv6.15.20//NONSGML v1.0//EN
CALSCALE:GREGORIAN
METHOD:PUBLISH
X-WR-CALNAME:Avail Cannabis
X-ORIGINAL-URL:https://www.availcannabis.com
X-WR-CALDESC:Events for Avail Cannabis
REFRESH-INTERVAL;VALUE=DURATION:PT1H
X-Robots-Tag:noindex
X-PUBLISHED-TTL:PT1H
BEGIN:VTIMEZONE
TZID:UTC
BEGIN:STANDARD
TZOFFSETFROM:+0000
TZOFFSETTO:+0000
TZNAME:UTC
DTSTART:20260101T000000
END:STANDARD
END:VTIMEZONE
BEGIN:VEVENT
DTSTART;TZID=UTC:20270618T090000
DTEND;TZID=UTC:20270618T110000
DTSTAMP:20260424T041325
CREATED:20251116T230638Z
LAST-MODIFIED:20251116T230748Z
UID:10000364-1813309200-1813316400@www.availcannabis.com
SUMMARY:Avail Veterans Oromocto- Red Friday Coffee
DESCRIPTION:
URL:https://www.availcannabis.com/event/avail-veterans-oromocto-red-friday-coffee/2027-06-18/
LOCATION:Avail Oromocto\, 282 Restigouche Rd\, Oromocto\, NB\, E2V 2H5
END:VEVENT
BEGIN:VEVENT
DTSTART;TZID=UTC:20270623T100000
DTEND;TZID=UTC:20270623T113000
DTSTAMP:20260424T041325
CREATED:20251116T231210Z
LAST-MODIFIED:20251116T231210Z
UID:10000626-1813744800-1813750200@www.availcannabis.com
SUMMARY:Avail West- Buddy check coffee
DESCRIPTION:
URL:https://www.availcannabis.com/event/avail-west-buddy-check-coffee/2027-06-23/
LOCATION:Avail West\, Langford Legion Branch 91
END:VEVENT
BEGIN:VEVENT
DTSTART;TZID=UTC:20270625T090000
DTEND;TZID=UTC:20270625T110000
DTSTAMP:20260424T041325
CREATED:20251116T230638Z
LAST-MODIFIED:20251116T230748Z
UID:10000365-1813914000-1813921200@www.availcannabis.com
SUMMARY:Avail Veterans Oromocto- Red Friday Coffee
DESCRIPTION:
URL:https://www.availcannabis.com/event/avail-veterans-oromocto-red-friday-coffee/2027-06-25/
LOCATION:Avail Oromocto\, 282 Restigouche Rd\, Oromocto\, NB\, E2V 2H5
END:VEVENT
BEGIN:VEVENT
DTSTART;TZID=UTC:20270630T100000
DTEND;TZID=UTC:20270630T113000
DTSTAMP:20260424T041325
CREATED:20251116T231210Z
LAST-MODIFIED:20251116T231210Z
UID:10000627-1814349600-1814355000@www.availcannabis.com
SUMMARY:Avail West- Buddy check coffee
DESCRIPTION:
URL:https://www.availcannabis.com/event/avail-west-buddy-check-coffee/2027-06-30/
LOCATION:Avail West\, Langford Legion Branch 91
END:VEVENT
BEGIN:VEVENT
DTSTART;TZID=UTC:20270702T090000
DTEND;TZID=UTC:20270702T110000
DTSTAMP:20260424T041325
CREATED:20251116T230638Z
LAST-MODIFIED:20251116T230748Z
UID:10000366-1814518800-1814526000@www.availcannabis.com
SUMMARY:Avail Veterans Oromocto- Red Friday Coffee
DESCRIPTION:
URL:https://www.availcannabis.com/event/avail-veterans-oromocto-red-friday-coffee/2027-07-02/
LOCATION:Avail Oromocto\, 282 Restigouche Rd\, Oromocto\, NB\, E2V 2H5
END:VEVENT
BEGIN:VEVENT
DTSTART;TZID=UTC:20270707T100000
DTEND;TZID=UTC:20270707T113000
DTSTAMP:20260424T041325
CREATED:20251116T231210Z
LAST-MODIFIED:20251116T231210Z
UID:10000628-1814954400-1814959800@www.availcannabis.com
SUMMARY:Avail West- Buddy check coffee
DESCRIPTION:
URL:https://www.availcannabis.com/event/avail-west-buddy-check-coffee/2027-07-07/
LOCATION:Avail West\, Langford Legion Branch 91
END:VEVENT
BEGIN:VEVENT
DTSTART;TZID=UTC:20270709T090000
DTEND;TZID=UTC:20270709T110000
DTSTAMP:20260424T041325
CREATED:20251116T230638Z
LAST-MODIFIED:20251116T230748Z
UID:10000367-1815123600-1815130800@www.availcannabis.com
SUMMARY:Avail Veterans Oromocto- Red Friday Coffee
DESCRIPTION:
URL:https://www.availcannabis.com/event/avail-veterans-oromocto-red-friday-coffee/2027-07-09/
LOCATION:Avail Oromocto\, 282 Restigouche Rd\, Oromocto\, NB\, E2V 2H5
END:VEVENT
BEGIN:VEVENT
DTSTART;TZID=UTC:20270714T100000
DTEND;TZID=UTC:20270714T113000
DTSTAMP:20260424T041325
CREATED:20251116T231210Z
LAST-MODIFIED:20251116T231210Z
UID:10000629-1815559200-1815564600@www.availcannabis.com
SUMMARY:Avail West- Buddy check coffee
DESCRIPTION:
URL:https://www.availcannabis.com/event/avail-west-buddy-check-coffee/2027-07-14/
LOCATION:Avail West\, Langford Legion Branch 91
END:VEVENT
BEGIN:VEVENT
DTSTART;TZID=UTC:20270716T090000
DTEND;TZID=UTC:20270716T110000
DTSTAMP:20260424T041325
CREATED:20251116T230638Z
LAST-MODIFIED:20251116T230748Z
UID:10000368-1815728400-1815735600@www.availcannabis.com
SUMMARY:Avail Veterans Oromocto- Red Friday Coffee
DESCRIPTION:
URL:https://www.availcannabis.com/event/avail-veterans-oromocto-red-friday-coffee/2027-07-16/
LOCATION:Avail Oromocto\, 282 Restigouche Rd\, Oromocto\, NB\, E2V 2H5
END:VEVENT
BEGIN:VEVENT
DTSTART;TZID=UTC:20270721T100000
DTEND;TZID=UTC:20270721T113000
DTSTAMP:20260424T041325
CREATED:20251116T231210Z
LAST-MODIFIED:20251116T231210Z
UID:10000630-1816164000-1816169400@www.availcannabis.com
SUMMARY:Avail West- Buddy check coffee
DESCRIPTION:
URL:https://www.availcannabis.com/event/avail-west-buddy-check-coffee/2027-07-21/
LOCATION:Avail West\, Langford Legion Branch 91
END:VEVENT
BEGIN:VEVENT
DTSTART;TZID=UTC:20270723T090000
DTEND;TZID=UTC:20270723T110000
DTSTAMP:20260424T041325
CREATED:20251116T230638Z
LAST-MODIFIED:20251116T230748Z
UID:10000369-1816333200-1816340400@www.availcannabis.com
SUMMARY:Avail Veterans Oromocto- Red Friday Coffee
DESCRIPTION:
URL:https://www.availcannabis.com/event/avail-veterans-oromocto-red-friday-coffee/2027-07-23/
LOCATION:Avail Oromocto\, 282 Restigouche Rd\, Oromocto\, NB\, E2V 2H5
END:VEVENT
BEGIN:VEVENT
DTSTART;TZID=UTC:20270728T100000
DTEND;TZID=UTC:20270728T113000
DTSTAMP:20260424T041325
CREATED:20251116T231210Z
LAST-MODIFIED:20251116T231210Z
UID:10000631-1816768800-1816774200@www.availcannabis.com
SUMMARY:Avail West- Buddy check coffee
DESCRIPTION:
URL:https://www.availcannabis.com/event/avail-west-buddy-check-coffee/2027-07-28/
LOCATION:Avail West\, Langford Legion Branch 91
END:VEVENT
BEGIN:VEVENT
DTSTART;TZID=UTC:20270730T090000
DTEND;TZID=UTC:20270730T110000
DTSTAMP:20260424T041325
CREATED:20251116T230638Z
LAST-MODIFIED:20251116T230748Z
UID:10000370-1816938000-1816945200@www.availcannabis.com
SUMMARY:Avail Veterans Oromocto- Red Friday Coffee
DESCRIPTION:
URL:https://www.availcannabis.com/event/avail-veterans-oromocto-red-friday-coffee/2027-07-30/
LOCATION:Avail Oromocto\, 282 Restigouche Rd\, Oromocto\, NB\, E2V 2H5
END:VEVENT
BEGIN:VEVENT
DTSTART;TZID=UTC:20270804T100000
DTEND;TZID=UTC:20270804T113000
DTSTAMP:20260424T041325
CREATED:20251116T231210Z
LAST-MODIFIED:20251116T231210Z
UID:10000632-1817373600-1817379000@www.availcannabis.com
SUMMARY:Avail West- Buddy check coffee
DESCRIPTION:
URL:https://www.availcannabis.com/event/avail-west-buddy-check-coffee/2027-08-04/
LOCATION:Avail West\, Langford Legion Branch 91
END:VEVENT
BEGIN:VEVENT
DTSTART;TZID=UTC:20270806T090000
DTEND;TZID=UTC:20270806T110000
DTSTAMP:20260424T041325
CREATED:20251116T230638Z
LAST-MODIFIED:20251116T230748Z
UID:10000371-1817542800-1817550000@www.availcannabis.com
SUMMARY:Avail Veterans Oromocto- Red Friday Coffee
DESCRIPTION:
URL:https://www.availcannabis.com/event/avail-veterans-oromocto-red-friday-coffee/2027-08-06/
LOCATION:Avail Oromocto\, 282 Restigouche Rd\, Oromocto\, NB\, E2V 2H5
END:VEVENT
BEGIN:VEVENT
DTSTART;TZID=UTC:20270811T100000
DTEND;TZID=UTC:20270811T113000
DTSTAMP:20260424T041325
CREATED:20251116T231210Z
LAST-MODIFIED:20251116T231210Z
UID:10000633-1817978400-1817983800@www.availcannabis.com
SUMMARY:Avail West- Buddy check coffee
DESCRIPTION:
URL:https://www.availcannabis.com/event/avail-west-buddy-check-coffee/2027-08-11/
LOCATION:Avail West\, Langford Legion Branch 91
END:VEVENT
BEGIN:VEVENT
DTSTART;TZID=UTC:20270813T090000
DTEND;TZID=UTC:20270813T110000
DTSTAMP:20260424T041325
CREATED:20251116T230638Z
LAST-MODIFIED:20251116T230748Z
UID:10000372-1818147600-1818154800@www.availcannabis.com
SUMMARY:Avail Veterans Oromocto- Red Friday Coffee
DESCRIPTION:
URL:https://www.availcannabis.com/event/avail-veterans-oromocto-red-friday-coffee/2027-08-13/
LOCATION:Avail Oromocto\, 282 Restigouche Rd\, Oromocto\, NB\, E2V 2H5
END:VEVENT
BEGIN:VEVENT
DTSTART;TZID=UTC:20270818T100000
DTEND;TZID=UTC:20270818T113000
DTSTAMP:20260424T041325
CREATED:20251116T231210Z
LAST-MODIFIED:20251116T231210Z
UID:10000634-1818583200-1818588600@www.availcannabis.com
SUMMARY:Avail West- Buddy check coffee
DESCRIPTION:
URL:https://www.availcannabis.com/event/avail-west-buddy-check-coffee/2027-08-18/
LOCATION:Avail West\, Langford Legion Branch 91
END:VEVENT
BEGIN:VEVENT
DTSTART;TZID=UTC:20270820T090000
DTEND;TZID=UTC:20270820T110000
DTSTAMP:20260424T041325
CREATED:20251116T230638Z
LAST-MODIFIED:20251116T230748Z
UID:10000373-1818752400-1818759600@www.availcannabis.com
SUMMARY:Avail Veterans Oromocto- Red Friday Coffee
DESCRIPTION:
URL:https://www.availcannabis.com/event/avail-veterans-oromocto-red-friday-coffee/2027-08-20/
LOCATION:Avail Oromocto\, 282 Restigouche Rd\, Oromocto\, NB\, E2V 2H5
END:VEVENT
BEGIN:VEVENT
DTSTART;TZID=UTC:20270825T100000
DTEND;TZID=UTC:20270825T113000
DTSTAMP:20260424T041325
CREATED:20251116T231210Z
LAST-MODIFIED:20251116T231210Z
UID:10000635-1819188000-1819193400@www.availcannabis.com
SUMMARY:Avail West- Buddy check coffee
DESCRIPTION:
URL:https://www.availcannabis.com/event/avail-west-buddy-check-coffee/2027-08-25/
LOCATION:Avail West\, Langford Legion Branch 91
END:VEVENT
BEGIN:VEVENT
DTSTART;TZID=UTC:20270827T090000
DTEND;TZID=UTC:20270827T110000
DTSTAMP:20260424T041325
CREATED:20251116T230638Z
LAST-MODIFIED:20251116T230748Z
UID:10000374-1819357200-1819364400@www.availcannabis.com
SUMMARY:Avail Veterans Oromocto- Red Friday Coffee
DESCRIPTION:
URL:https://www.availcannabis.com/event/avail-veterans-oromocto-red-friday-coffee/2027-08-27/
LOCATION:Avail Oromocto\, 282 Restigouche Rd\, Oromocto\, NB\, E2V 2H5
END:VEVENT
BEGIN:VEVENT
DTSTART;TZID=UTC:20270901T100000
DTEND;TZID=UTC:20270901T113000
DTSTAMP:20260424T041325
CREATED:20251116T231210Z
LAST-MODIFIED:20251116T231210Z
UID:10000636-1819792800-1819798200@www.availcannabis.com
SUMMARY:Avail West- Buddy check coffee
DESCRIPTION:
URL:https://www.availcannabis.com/event/avail-west-buddy-check-coffee/2027-09-01/
LOCATION:Avail West\, Langford Legion Branch 91
END:VEVENT
BEGIN:VEVENT
DTSTART;TZID=UTC:20270903T090000
DTEND;TZID=UTC:20270903T110000
DTSTAMP:20260424T041325
CREATED:20251116T230638Z
LAST-MODIFIED:20251116T230748Z
UID:10000375-1819962000-1819969200@www.availcannabis.com
SUMMARY:Avail Veterans Oromocto- Red Friday Coffee
DESCRIPTION:
URL:https://www.availcannabis.com/event/avail-veterans-oromocto-red-friday-coffee/2027-09-03/
LOCATION:Avail Oromocto\, 282 Restigouche Rd\, Oromocto\, NB\, E2V 2H5
END:VEVENT
BEGIN:VEVENT
DTSTART;TZID=UTC:20270908T100000
DTEND;TZID=UTC:20270908T113000
DTSTAMP:20260424T041325
CREATED:20251116T231210Z
LAST-MODIFIED:20251116T231210Z
UID:10000637-1820397600-1820403000@www.availcannabis.com
SUMMARY:Avail West- Buddy check coffee
DESCRIPTION:
URL:https://www.availcannabis.com/event/avail-west-buddy-check-coffee/2027-09-08/
LOCATION:Avail West\, Langford Legion Branch 91
END:VEVENT
BEGIN:VEVENT
DTSTART;TZID=UTC:20270910T090000
DTEND;TZID=UTC:20270910T110000
DTSTAMP:20260424T041325
CREATED:20251116T230638Z
LAST-MODIFIED:20251116T230748Z
UID:10000376-1820566800-1820574000@www.availcannabis.com
SUMMARY:Avail Veterans Oromocto- Red Friday Coffee
DESCRIPTION:
URL:https://www.availcannabis.com/event/avail-veterans-oromocto-red-friday-coffee/2027-09-10/
LOCATION:Avail Oromocto\, 282 Restigouche Rd\, Oromocto\, NB\, E2V 2H5
END:VEVENT
BEGIN:VEVENT
DTSTART;TZID=UTC:20270915T100000
DTEND;TZID=UTC:20270915T113000
DTSTAMP:20260424T041325
CREATED:20251116T231210Z
LAST-MODIFIED:20251116T231210Z
UID:10000638-1821002400-1821007800@www.availcannabis.com
SUMMARY:Avail West- Buddy check coffee
DESCRIPTION:
URL:https://www.availcannabis.com/event/avail-west-buddy-check-coffee/2027-09-15/
LOCATION:Avail West\, Langford Legion Branch 91
END:VEVENT
BEGIN:VEVENT
DTSTART;TZID=UTC:20270917T090000
DTEND;TZID=UTC:20270917T110000
DTSTAMP:20260424T041325
CREATED:20251116T230638Z
LAST-MODIFIED:20251116T230748Z
UID:10000377-1821171600-1821178800@www.availcannabis.com
SUMMARY:Avail Veterans Oromocto- Red Friday Coffee
DESCRIPTION:
URL:https://www.availcannabis.com/event/avail-veterans-oromocto-red-friday-coffee/2027-09-17/
LOCATION:Avail Oromocto\, 282 Restigouche Rd\, Oromocto\, NB\, E2V 2H5
END:VEVENT
BEGIN:VEVENT
DTSTART;TZID=UTC:20270922T100000
DTEND;TZID=UTC:20270922T113000
DTSTAMP:20260424T041325
CREATED:20251116T231210Z
LAST-MODIFIED:20251116T231210Z
UID:10000639-1821607200-1821612600@www.availcannabis.com
SUMMARY:Avail West- Buddy check coffee
DESCRIPTION:
URL:https://www.availcannabis.com/event/avail-west-buddy-check-coffee/2027-09-22/
LOCATION:Avail West\, Langford Legion Branch 91
END:VEVENT
BEGIN:VEVENT
DTSTART;TZID=UTC:20270924T090000
DTEND;TZID=UTC:20270924T110000
DTSTAMP:20260424T041326
CREATED:20251116T230638Z
LAST-MODIFIED:20251116T230748Z
UID:10000378-1821776400-1821783600@www.availcannabis.com
SUMMARY:Avail Veterans Oromocto- Red Friday Coffee
DESCRIPTION:
URL:https://www.availcannabis.com/event/avail-veterans-oromocto-red-friday-coffee/2027-09-24/
LOCATION:Avail Oromocto\, 282 Restigouche Rd\, Oromocto\, NB\, E2V 2H5
END:VEVENT
BEGIN:VEVENT
DTSTART;TZID=UTC:20270929T100000
DTEND;TZID=UTC:20270929T113000
DTSTAMP:20260424T041326
CREATED:20251116T231210Z
LAST-MODIFIED:20251116T231210Z
UID:10000640-1822212000-1822217400@www.availcannabis.com
SUMMARY:Avail West- Buddy check coffee
DESCRIPTION:
URL:https://www.availcannabis.com/event/avail-west-buddy-check-coffee/2027-09-29/
LOCATION:Avail West\, Langford Legion Branch 91
END:VEVENT
END:VCALENDAR