BEGIN:VCALENDAR
VERSION:2.0
PRODID:-//Avail Cannabis - ECPv6.15.20//NONSGML v1.0//EN
CALSCALE:GREGORIAN
METHOD:PUBLISH
X-WR-CALNAME:Avail Cannabis
X-ORIGINAL-URL:https://www.availcannabis.com
X-WR-CALDESC:Events for Avail Cannabis
REFRESH-INTERVAL;VALUE=DURATION:PT1H
X-Robots-Tag:noindex
X-PUBLISHED-TTL:PT1H
BEGIN:VTIMEZONE
TZID:UTC
BEGIN:STANDARD
TZOFFSETFROM:+0000
TZOFFSETTO:+0000
TZNAME:UTC
DTSTART:20260101T000000
END:STANDARD
END:VTIMEZONE
BEGIN:VEVENT
DTSTART;TZID=UTC:20271022T090000
DTEND;TZID=UTC:20271022T110000
DTSTAMP:20260424T082814
CREATED:20251116T230638Z
LAST-MODIFIED:20251116T230748Z
UID:10000382-1824195600-1824202800@www.availcannabis.com
SUMMARY:Avail Veterans Oromocto- Red Friday Coffee
DESCRIPTION:
URL:https://www.availcannabis.com/event/avail-veterans-oromocto-red-friday-coffee/2027-10-22/
LOCATION:Avail Oromocto\, 282 Restigouche Rd\, Oromocto\, NB\, E2V 2H5
END:VEVENT
BEGIN:VEVENT
DTSTART;TZID=UTC:20271027T100000
DTEND;TZID=UTC:20271027T113000
DTSTAMP:20260424T082814
CREATED:20251116T231210Z
LAST-MODIFIED:20251116T231210Z
UID:10000644-1824631200-1824636600@www.availcannabis.com
SUMMARY:Avail West- Buddy check coffee
DESCRIPTION:
URL:https://www.availcannabis.com/event/avail-west-buddy-check-coffee/2027-10-27/
LOCATION:Avail West\, Langford Legion Branch 91
END:VEVENT
BEGIN:VEVENT
DTSTART;TZID=UTC:20271029T090000
DTEND;TZID=UTC:20271029T110000
DTSTAMP:20260424T082814
CREATED:20251116T230638Z
LAST-MODIFIED:20251116T230748Z
UID:10000383-1824800400-1824807600@www.availcannabis.com
SUMMARY:Avail Veterans Oromocto- Red Friday Coffee
DESCRIPTION:
URL:https://www.availcannabis.com/event/avail-veterans-oromocto-red-friday-coffee/2027-10-29/
LOCATION:Avail Oromocto\, 282 Restigouche Rd\, Oromocto\, NB\, E2V 2H5
END:VEVENT
BEGIN:VEVENT
DTSTART;TZID=UTC:20271103T100000
DTEND;TZID=UTC:20271103T113000
DTSTAMP:20260424T082814
CREATED:20251116T231210Z
LAST-MODIFIED:20251116T231210Z
UID:10000645-1825236000-1825241400@www.availcannabis.com
SUMMARY:Avail West- Buddy check coffee
DESCRIPTION:
URL:https://www.availcannabis.com/event/avail-west-buddy-check-coffee/2027-11-03/
LOCATION:Avail West\, Langford Legion Branch 91
END:VEVENT
BEGIN:VEVENT
DTSTART;TZID=UTC:20271105T090000
DTEND;TZID=UTC:20271105T110000
DTSTAMP:20260424T082814
CREATED:20251116T230638Z
LAST-MODIFIED:20251116T230748Z
UID:10000384-1825405200-1825412400@www.availcannabis.com
SUMMARY:Avail Veterans Oromocto- Red Friday Coffee
DESCRIPTION:
URL:https://www.availcannabis.com/event/avail-veterans-oromocto-red-friday-coffee/2027-11-05/
LOCATION:Avail Oromocto\, 282 Restigouche Rd\, Oromocto\, NB\, E2V 2H5
END:VEVENT
BEGIN:VEVENT
DTSTART;TZID=UTC:20271110T100000
DTEND;TZID=UTC:20271110T113000
DTSTAMP:20260424T082814
CREATED:20251116T231210Z
LAST-MODIFIED:20251116T231210Z
UID:10000646-1825840800-1825846200@www.availcannabis.com
SUMMARY:Avail West- Buddy check coffee
DESCRIPTION:
URL:https://www.availcannabis.com/event/avail-west-buddy-check-coffee/2027-11-10/
LOCATION:Avail West\, Langford Legion Branch 91
END:VEVENT
BEGIN:VEVENT
DTSTART;TZID=UTC:20271112T090000
DTEND;TZID=UTC:20271112T110000
DTSTAMP:20260424T082814
CREATED:20251116T230638Z
LAST-MODIFIED:20251116T230748Z
UID:10000385-1826010000-1826017200@www.availcannabis.com
SUMMARY:Avail Veterans Oromocto- Red Friday Coffee
DESCRIPTION:
URL:https://www.availcannabis.com/event/avail-veterans-oromocto-red-friday-coffee/2027-11-12/
LOCATION:Avail Oromocto\, 282 Restigouche Rd\, Oromocto\, NB\, E2V 2H5
END:VEVENT
BEGIN:VEVENT
DTSTART;TZID=UTC:20271117T100000
DTEND;TZID=UTC:20271117T113000
DTSTAMP:20260424T082814
CREATED:20251116T231210Z
LAST-MODIFIED:20251116T231210Z
UID:10000647-1826445600-1826451000@www.availcannabis.com
SUMMARY:Avail West- Buddy check coffee
DESCRIPTION:
URL:https://www.availcannabis.com/event/avail-west-buddy-check-coffee/2027-11-17/
LOCATION:Avail West\, Langford Legion Branch 91
END:VEVENT
BEGIN:VEVENT
DTSTART;TZID=UTC:20271119T090000
DTEND;TZID=UTC:20271119T110000
DTSTAMP:20260424T082814
CREATED:20251116T230638Z
LAST-MODIFIED:20251116T230748Z
UID:10000386-1826614800-1826622000@www.availcannabis.com
SUMMARY:Avail Veterans Oromocto- Red Friday Coffee
DESCRIPTION:
URL:https://www.availcannabis.com/event/avail-veterans-oromocto-red-friday-coffee/2027-11-19/
LOCATION:Avail Oromocto\, 282 Restigouche Rd\, Oromocto\, NB\, E2V 2H5
END:VEVENT
BEGIN:VEVENT
DTSTART;TZID=UTC:20271124T100000
DTEND;TZID=UTC:20271124T113000
DTSTAMP:20260424T082814
CREATED:20251116T231210Z
LAST-MODIFIED:20251116T231210Z
UID:10000648-1827050400-1827055800@www.availcannabis.com
SUMMARY:Avail West- Buddy check coffee
DESCRIPTION:
URL:https://www.availcannabis.com/event/avail-west-buddy-check-coffee/2027-11-24/
LOCATION:Avail West\, Langford Legion Branch 91
END:VEVENT
BEGIN:VEVENT
DTSTART;TZID=UTC:20271126T090000
DTEND;TZID=UTC:20271126T110000
DTSTAMP:20260424T082814
CREATED:20251116T230638Z
LAST-MODIFIED:20251116T230748Z
UID:10000387-1827219600-1827226800@www.availcannabis.com
SUMMARY:Avail Veterans Oromocto- Red Friday Coffee
DESCRIPTION:
URL:https://www.availcannabis.com/event/avail-veterans-oromocto-red-friday-coffee/2027-11-26/
LOCATION:Avail Oromocto\, 282 Restigouche Rd\, Oromocto\, NB\, E2V 2H5
END:VEVENT
BEGIN:VEVENT
DTSTART;TZID=UTC:20271201T100000
DTEND;TZID=UTC:20271201T113000
DTSTAMP:20260424T082814
CREATED:20251116T231210Z
LAST-MODIFIED:20251116T231210Z
UID:10000649-1827655200-1827660600@www.availcannabis.com
SUMMARY:Avail West- Buddy check coffee
DESCRIPTION:
URL:https://www.availcannabis.com/event/avail-west-buddy-check-coffee/2027-12-01/
LOCATION:Avail West\, Langford Legion Branch 91
END:VEVENT
BEGIN:VEVENT
DTSTART;TZID=UTC:20271203T090000
DTEND;TZID=UTC:20271203T110000
DTSTAMP:20260424T082814
CREATED:20251116T230638Z
LAST-MODIFIED:20251116T230748Z
UID:10000388-1827824400-1827831600@www.availcannabis.com
SUMMARY:Avail Veterans Oromocto- Red Friday Coffee
DESCRIPTION:
URL:https://www.availcannabis.com/event/avail-veterans-oromocto-red-friday-coffee/2027-12-03/
LOCATION:Avail Oromocto\, 282 Restigouche Rd\, Oromocto\, NB\, E2V 2H5
END:VEVENT
BEGIN:VEVENT
DTSTART;TZID=UTC:20271208T100000
DTEND;TZID=UTC:20271208T113000
DTSTAMP:20260424T082814
CREATED:20251116T231210Z
LAST-MODIFIED:20251116T231210Z
UID:10000650-1828260000-1828265400@www.availcannabis.com
SUMMARY:Avail West- Buddy check coffee
DESCRIPTION:
URL:https://www.availcannabis.com/event/avail-west-buddy-check-coffee/2027-12-08/
LOCATION:Avail West\, Langford Legion Branch 91
END:VEVENT
BEGIN:VEVENT
DTSTART;TZID=UTC:20271210T090000
DTEND;TZID=UTC:20271210T110000
DTSTAMP:20260424T082814
CREATED:20251116T230638Z
LAST-MODIFIED:20251116T230748Z
UID:10000389-1828429200-1828436400@www.availcannabis.com
SUMMARY:Avail Veterans Oromocto- Red Friday Coffee
DESCRIPTION:
URL:https://www.availcannabis.com/event/avail-veterans-oromocto-red-friday-coffee/2027-12-10/
LOCATION:Avail Oromocto\, 282 Restigouche Rd\, Oromocto\, NB\, E2V 2H5
END:VEVENT
BEGIN:VEVENT
DTSTART;TZID=UTC:20271215T100000
DTEND;TZID=UTC:20271215T113000
DTSTAMP:20260424T082814
CREATED:20251116T231210Z
LAST-MODIFIED:20251116T231210Z
UID:10000651-1828864800-1828870200@www.availcannabis.com
SUMMARY:Avail West- Buddy check coffee
DESCRIPTION:
URL:https://www.availcannabis.com/event/avail-west-buddy-check-coffee/2027-12-15/
LOCATION:Avail West\, Langford Legion Branch 91
END:VEVENT
BEGIN:VEVENT
DTSTART;TZID=UTC:20271217T090000
DTEND;TZID=UTC:20271217T110000
DTSTAMP:20260424T082814
CREATED:20251116T230638Z
LAST-MODIFIED:20251116T230748Z
UID:10000390-1829034000-1829041200@www.availcannabis.com
SUMMARY:Avail Veterans Oromocto- Red Friday Coffee
DESCRIPTION:
URL:https://www.availcannabis.com/event/avail-veterans-oromocto-red-friday-coffee/2027-12-17/
LOCATION:Avail Oromocto\, 282 Restigouche Rd\, Oromocto\, NB\, E2V 2H5
END:VEVENT
BEGIN:VEVENT
DTSTART;TZID=UTC:20271222T100000
DTEND;TZID=UTC:20271222T113000
DTSTAMP:20260424T082814
CREATED:20251116T231210Z
LAST-MODIFIED:20251116T231210Z
UID:10000652-1829469600-1829475000@www.availcannabis.com
SUMMARY:Avail West- Buddy check coffee
DESCRIPTION:
URL:https://www.availcannabis.com/event/avail-west-buddy-check-coffee/2027-12-22/
LOCATION:Avail West\, Langford Legion Branch 91
END:VEVENT
BEGIN:VEVENT
DTSTART;TZID=UTC:20271224T090000
DTEND;TZID=UTC:20271224T110000
DTSTAMP:20260424T082814
CREATED:20251116T230638Z
LAST-MODIFIED:20251116T230748Z
UID:10000391-1829638800-1829646000@www.availcannabis.com
SUMMARY:Avail Veterans Oromocto- Red Friday Coffee
DESCRIPTION:
URL:https://www.availcannabis.com/event/avail-veterans-oromocto-red-friday-coffee/2027-12-24/
LOCATION:Avail Oromocto\, 282 Restigouche Rd\, Oromocto\, NB\, E2V 2H5
END:VEVENT
BEGIN:VEVENT
DTSTART;TZID=UTC:20271229T100000
DTEND;TZID=UTC:20271229T113000
DTSTAMP:20260424T082814
CREATED:20251116T231210Z
LAST-MODIFIED:20251116T231210Z
UID:10000653-1830074400-1830079800@www.availcannabis.com
SUMMARY:Avail West- Buddy check coffee
DESCRIPTION:
URL:https://www.availcannabis.com/event/avail-west-buddy-check-coffee/2027-12-29/
LOCATION:Avail West\, Langford Legion Branch 91
END:VEVENT
BEGIN:VEVENT
DTSTART;TZID=UTC:20271231T090000
DTEND;TZID=UTC:20271231T110000
DTSTAMP:20260424T082814
CREATED:20251116T230638Z
LAST-MODIFIED:20251116T230748Z
UID:10000392-1830243600-1830250800@www.availcannabis.com
SUMMARY:Avail Veterans Oromocto- Red Friday Coffee
DESCRIPTION:
URL:https://www.availcannabis.com/event/avail-veterans-oromocto-red-friday-coffee/2027-12-31/
LOCATION:Avail Oromocto\, 282 Restigouche Rd\, Oromocto\, NB\, E2V 2H5
END:VEVENT
BEGIN:VEVENT
DTSTART;TZID=UTC:20280105T100000
DTEND;TZID=UTC:20280105T113000
DTSTAMP:20260424T082814
CREATED:20251116T231210Z
LAST-MODIFIED:20251116T231210Z
UID:10000654-1830679200-1830684600@www.availcannabis.com
SUMMARY:Avail West- Buddy check coffee
DESCRIPTION:
URL:https://www.availcannabis.com/event/avail-west-buddy-check-coffee/2028-01-05/
LOCATION:Avail West\, Langford Legion Branch 91
END:VEVENT
BEGIN:VEVENT
DTSTART;TZID=UTC:20280107T090000
DTEND;TZID=UTC:20280107T110000
DTSTAMP:20260424T082814
CREATED:20251116T230638Z
LAST-MODIFIED:20251116T230748Z
UID:10000393-1830848400-1830855600@www.availcannabis.com
SUMMARY:Avail Veterans Oromocto- Red Friday Coffee
DESCRIPTION:
URL:https://www.availcannabis.com/event/avail-veterans-oromocto-red-friday-coffee/2028-01-07/
LOCATION:Avail Oromocto\, 282 Restigouche Rd\, Oromocto\, NB\, E2V 2H5
END:VEVENT
BEGIN:VEVENT
DTSTART;TZID=UTC:20280112T100000
DTEND;TZID=UTC:20280112T113000
DTSTAMP:20260424T082814
CREATED:20251116T231210Z
LAST-MODIFIED:20251116T231210Z
UID:10000655-1831284000-1831289400@www.availcannabis.com
SUMMARY:Avail West- Buddy check coffee
DESCRIPTION:
URL:https://www.availcannabis.com/event/avail-west-buddy-check-coffee/2028-01-12/
LOCATION:Avail West\, Langford Legion Branch 91
END:VEVENT
BEGIN:VEVENT
DTSTART;TZID=UTC:20280114T090000
DTEND;TZID=UTC:20280114T110000
DTSTAMP:20260424T082814
CREATED:20251116T230638Z
LAST-MODIFIED:20251116T230748Z
UID:10000394-1831453200-1831460400@www.availcannabis.com
SUMMARY:Avail Veterans Oromocto- Red Friday Coffee
DESCRIPTION:
URL:https://www.availcannabis.com/event/avail-veterans-oromocto-red-friday-coffee/2028-01-14/
LOCATION:Avail Oromocto\, 282 Restigouche Rd\, Oromocto\, NB\, E2V 2H5
END:VEVENT
BEGIN:VEVENT
DTSTART;TZID=UTC:20280119T100000
DTEND;TZID=UTC:20280119T113000
DTSTAMP:20260424T082814
CREATED:20251116T231210Z
LAST-MODIFIED:20251116T231210Z
UID:10000656-1831888800-1831894200@www.availcannabis.com
SUMMARY:Avail West- Buddy check coffee
DESCRIPTION:
URL:https://www.availcannabis.com/event/avail-west-buddy-check-coffee/2028-01-19/
LOCATION:Avail West\, Langford Legion Branch 91
END:VEVENT
BEGIN:VEVENT
DTSTART;TZID=UTC:20280121T090000
DTEND;TZID=UTC:20280121T110000
DTSTAMP:20260424T082814
CREATED:20251116T230638Z
LAST-MODIFIED:20251116T230748Z
UID:10000395-1832058000-1832065200@www.availcannabis.com
SUMMARY:Avail Veterans Oromocto- Red Friday Coffee
DESCRIPTION:
URL:https://www.availcannabis.com/event/avail-veterans-oromocto-red-friday-coffee/2028-01-21/
LOCATION:Avail Oromocto\, 282 Restigouche Rd\, Oromocto\, NB\, E2V 2H5
END:VEVENT
BEGIN:VEVENT
DTSTART;TZID=UTC:20280126T100000
DTEND;TZID=UTC:20280126T113000
DTSTAMP:20260424T082814
CREATED:20251116T231210Z
LAST-MODIFIED:20251116T231210Z
UID:10000657-1832493600-1832499000@www.availcannabis.com
SUMMARY:Avail West- Buddy check coffee
DESCRIPTION:
URL:https://www.availcannabis.com/event/avail-west-buddy-check-coffee/2028-01-26/
LOCATION:Avail West\, Langford Legion Branch 91
END:VEVENT
BEGIN:VEVENT
DTSTART;TZID=UTC:20280128T090000
DTEND;TZID=UTC:20280128T110000
DTSTAMP:20260424T082814
CREATED:20251116T230638Z
LAST-MODIFIED:20251116T230748Z
UID:10000396-1832662800-1832670000@www.availcannabis.com
SUMMARY:Avail Veterans Oromocto- Red Friday Coffee
DESCRIPTION:
URL:https://www.availcannabis.com/event/avail-veterans-oromocto-red-friday-coffee/2028-01-28/
LOCATION:Avail Oromocto\, 282 Restigouche Rd\, Oromocto\, NB\, E2V 2H5
END:VEVENT
BEGIN:VEVENT
DTSTART;TZID=UTC:20280202T100000
DTEND;TZID=UTC:20280202T113000
DTSTAMP:20260424T082814
CREATED:20251116T231210Z
LAST-MODIFIED:20251116T231210Z
UID:10000658-1833098400-1833103800@www.availcannabis.com
SUMMARY:Avail West- Buddy check coffee
DESCRIPTION:
URL:https://www.availcannabis.com/event/avail-west-buddy-check-coffee/2028-02-02/
LOCATION:Avail West\, Langford Legion Branch 91
END:VEVENT
END:VCALENDAR