BEGIN:VCALENDAR
VERSION:2.0
PRODID:-//Avail Cannabis - ECPv6.15.20//NONSGML v1.0//EN
CALSCALE:GREGORIAN
METHOD:PUBLISH
X-WR-CALNAME:Avail Cannabis
X-ORIGINAL-URL:https://www.availcannabis.com
X-WR-CALDESC:Events for Avail Cannabis
REFRESH-INTERVAL;VALUE=DURATION:PT1H
X-Robots-Tag:noindex
X-PUBLISHED-TTL:PT1H
BEGIN:VTIMEZONE
TZID:UTC
BEGIN:STANDARD
TZOFFSETFROM:+0000
TZOFFSETTO:+0000
TZNAME:UTC
DTSTART:20250101T000000
END:STANDARD
END:VTIMEZONE
BEGIN:VEVENT
DTSTART;TZID=UTC:20260717T090000
DTEND;TZID=UTC:20260717T110000
DTSTAMP:20260423T171820
CREATED:20251116T230638Z
LAST-MODIFIED:20251116T230748Z
UID:10000316-1784278800-1784286000@www.availcannabis.com
SUMMARY:Avail Veterans Oromocto- Red Friday Coffee
DESCRIPTION:
URL:https://www.availcannabis.com/event/avail-veterans-oromocto-red-friday-coffee/2026-07-17/
LOCATION:Avail Oromocto\, 282 Restigouche Rd\, Oromocto\, NB\, E2V 2H5
END:VEVENT
BEGIN:VEVENT
DTSTART;TZID=UTC:20260722T100000
DTEND;TZID=UTC:20260722T113000
DTSTAMP:20260423T171820
CREATED:20251116T231210Z
LAST-MODIFIED:20251116T231210Z
UID:10000578-1784714400-1784719800@www.availcannabis.com
SUMMARY:Avail West- Buddy check coffee
DESCRIPTION:
URL:https://www.availcannabis.com/event/avail-west-buddy-check-coffee/2026-07-22/
LOCATION:Avail West\, Langford Legion Branch 91
END:VEVENT
BEGIN:VEVENT
DTSTART;TZID=UTC:20260724T090000
DTEND;TZID=UTC:20260724T110000
DTSTAMP:20260423T171820
CREATED:20251116T230638Z
LAST-MODIFIED:20251116T230748Z
UID:10000317-1784883600-1784890800@www.availcannabis.com
SUMMARY:Avail Veterans Oromocto- Red Friday Coffee
DESCRIPTION:
URL:https://www.availcannabis.com/event/avail-veterans-oromocto-red-friday-coffee/2026-07-24/
LOCATION:Avail Oromocto\, 282 Restigouche Rd\, Oromocto\, NB\, E2V 2H5
END:VEVENT
BEGIN:VEVENT
DTSTART;TZID=UTC:20260729T100000
DTEND;TZID=UTC:20260729T113000
DTSTAMP:20260423T171820
CREATED:20251116T231210Z
LAST-MODIFIED:20251116T231210Z
UID:10000579-1785319200-1785324600@www.availcannabis.com
SUMMARY:Avail West- Buddy check coffee
DESCRIPTION:
URL:https://www.availcannabis.com/event/avail-west-buddy-check-coffee/2026-07-29/
LOCATION:Avail West\, Langford Legion Branch 91
END:VEVENT
BEGIN:VEVENT
DTSTART;TZID=UTC:20260731T090000
DTEND;TZID=UTC:20260731T110000
DTSTAMP:20260423T171820
CREATED:20251116T230638Z
LAST-MODIFIED:20251116T230748Z
UID:10000318-1785488400-1785495600@www.availcannabis.com
SUMMARY:Avail Veterans Oromocto- Red Friday Coffee
DESCRIPTION:
URL:https://www.availcannabis.com/event/avail-veterans-oromocto-red-friday-coffee/2026-07-31/
LOCATION:Avail Oromocto\, 282 Restigouche Rd\, Oromocto\, NB\, E2V 2H5
END:VEVENT
BEGIN:VEVENT
DTSTART;TZID=UTC:20260805T100000
DTEND;TZID=UTC:20260805T113000
DTSTAMP:20260423T171820
CREATED:20251116T231210Z
LAST-MODIFIED:20251116T231210Z
UID:10000580-1785924000-1785929400@www.availcannabis.com
SUMMARY:Avail West- Buddy check coffee
DESCRIPTION:
URL:https://www.availcannabis.com/event/avail-west-buddy-check-coffee/2026-08-05/
LOCATION:Avail West\, Langford Legion Branch 91
END:VEVENT
BEGIN:VEVENT
DTSTART;TZID=UTC:20260807T090000
DTEND;TZID=UTC:20260807T110000
DTSTAMP:20260423T171820
CREATED:20251116T230638Z
LAST-MODIFIED:20251116T230748Z
UID:10000319-1786093200-1786100400@www.availcannabis.com
SUMMARY:Avail Veterans Oromocto- Red Friday Coffee
DESCRIPTION:
URL:https://www.availcannabis.com/event/avail-veterans-oromocto-red-friday-coffee/2026-08-07/
LOCATION:Avail Oromocto\, 282 Restigouche Rd\, Oromocto\, NB\, E2V 2H5
END:VEVENT
BEGIN:VEVENT
DTSTART;TZID=UTC:20260812T100000
DTEND;TZID=UTC:20260812T113000
DTSTAMP:20260423T171820
CREATED:20251116T231210Z
LAST-MODIFIED:20251116T231210Z
UID:10000581-1786528800-1786534200@www.availcannabis.com
SUMMARY:Avail West- Buddy check coffee
DESCRIPTION:
URL:https://www.availcannabis.com/event/avail-west-buddy-check-coffee/2026-08-12/
LOCATION:Avail West\, Langford Legion Branch 91
END:VEVENT
BEGIN:VEVENT
DTSTART;TZID=UTC:20260814T090000
DTEND;TZID=UTC:20260814T110000
DTSTAMP:20260423T171820
CREATED:20251116T230638Z
LAST-MODIFIED:20251116T230748Z
UID:10000320-1786698000-1786705200@www.availcannabis.com
SUMMARY:Avail Veterans Oromocto- Red Friday Coffee
DESCRIPTION:
URL:https://www.availcannabis.com/event/avail-veterans-oromocto-red-friday-coffee/2026-08-14/
LOCATION:Avail Oromocto\, 282 Restigouche Rd\, Oromocto\, NB\, E2V 2H5
END:VEVENT
BEGIN:VEVENT
DTSTART;TZID=UTC:20260819T100000
DTEND;TZID=UTC:20260819T113000
DTSTAMP:20260423T171820
CREATED:20251116T231210Z
LAST-MODIFIED:20251116T231210Z
UID:10000582-1787133600-1787139000@www.availcannabis.com
SUMMARY:Avail West- Buddy check coffee
DESCRIPTION:
URL:https://www.availcannabis.com/event/avail-west-buddy-check-coffee/2026-08-19/
LOCATION:Avail West\, Langford Legion Branch 91
END:VEVENT
BEGIN:VEVENT
DTSTART;TZID=UTC:20260821T090000
DTEND;TZID=UTC:20260821T110000
DTSTAMP:20260423T171820
CREATED:20251116T230638Z
LAST-MODIFIED:20251116T230748Z
UID:10000321-1787302800-1787310000@www.availcannabis.com
SUMMARY:Avail Veterans Oromocto- Red Friday Coffee
DESCRIPTION:
URL:https://www.availcannabis.com/event/avail-veterans-oromocto-red-friday-coffee/2026-08-21/
LOCATION:Avail Oromocto\, 282 Restigouche Rd\, Oromocto\, NB\, E2V 2H5
END:VEVENT
BEGIN:VEVENT
DTSTART;TZID=UTC:20260826T100000
DTEND;TZID=UTC:20260826T113000
DTSTAMP:20260423T171820
CREATED:20251116T231210Z
LAST-MODIFIED:20251116T231210Z
UID:10000583-1787738400-1787743800@www.availcannabis.com
SUMMARY:Avail West- Buddy check coffee
DESCRIPTION:
URL:https://www.availcannabis.com/event/avail-west-buddy-check-coffee/2026-08-26/
LOCATION:Avail West\, Langford Legion Branch 91
END:VEVENT
BEGIN:VEVENT
DTSTART;TZID=UTC:20260828T090000
DTEND;TZID=UTC:20260828T110000
DTSTAMP:20260423T171820
CREATED:20251116T230638Z
LAST-MODIFIED:20251116T230748Z
UID:10000322-1787907600-1787914800@www.availcannabis.com
SUMMARY:Avail Veterans Oromocto- Red Friday Coffee
DESCRIPTION:
URL:https://www.availcannabis.com/event/avail-veterans-oromocto-red-friday-coffee/2026-08-28/
LOCATION:Avail Oromocto\, 282 Restigouche Rd\, Oromocto\, NB\, E2V 2H5
END:VEVENT
BEGIN:VEVENT
DTSTART;TZID=UTC:20260902T100000
DTEND;TZID=UTC:20260902T113000
DTSTAMP:20260423T171820
CREATED:20251116T231210Z
LAST-MODIFIED:20251116T231210Z
UID:10000584-1788343200-1788348600@www.availcannabis.com
SUMMARY:Avail West- Buddy check coffee
DESCRIPTION:
URL:https://www.availcannabis.com/event/avail-west-buddy-check-coffee/2026-09-02/
LOCATION:Avail West\, Langford Legion Branch 91
END:VEVENT
BEGIN:VEVENT
DTSTART;TZID=UTC:20260904T090000
DTEND;TZID=UTC:20260904T110000
DTSTAMP:20260423T171820
CREATED:20251116T230638Z
LAST-MODIFIED:20251116T230748Z
UID:10000323-1788512400-1788519600@www.availcannabis.com
SUMMARY:Avail Veterans Oromocto- Red Friday Coffee
DESCRIPTION:
URL:https://www.availcannabis.com/event/avail-veterans-oromocto-red-friday-coffee/2026-09-04/
LOCATION:Avail Oromocto\, 282 Restigouche Rd\, Oromocto\, NB\, E2V 2H5
END:VEVENT
BEGIN:VEVENT
DTSTART;TZID=UTC:20260909T100000
DTEND;TZID=UTC:20260909T113000
DTSTAMP:20260423T171820
CREATED:20251116T231210Z
LAST-MODIFIED:20251116T231210Z
UID:10000585-1788948000-1788953400@www.availcannabis.com
SUMMARY:Avail West- Buddy check coffee
DESCRIPTION:
URL:https://www.availcannabis.com/event/avail-west-buddy-check-coffee/2026-09-09/
LOCATION:Avail West\, Langford Legion Branch 91
END:VEVENT
BEGIN:VEVENT
DTSTART;TZID=UTC:20260911T090000
DTEND;TZID=UTC:20260911T110000
DTSTAMP:20260423T171820
CREATED:20251116T230638Z
LAST-MODIFIED:20251116T230748Z
UID:10000324-1789117200-1789124400@www.availcannabis.com
SUMMARY:Avail Veterans Oromocto- Red Friday Coffee
DESCRIPTION:
URL:https://www.availcannabis.com/event/avail-veterans-oromocto-red-friday-coffee/2026-09-11/
LOCATION:Avail Oromocto\, 282 Restigouche Rd\, Oromocto\, NB\, E2V 2H5
END:VEVENT
BEGIN:VEVENT
DTSTART;TZID=UTC:20260916T100000
DTEND;TZID=UTC:20260916T113000
DTSTAMP:20260423T171820
CREATED:20251116T231210Z
LAST-MODIFIED:20251116T231210Z
UID:10000586-1789552800-1789558200@www.availcannabis.com
SUMMARY:Avail West- Buddy check coffee
DESCRIPTION:
URL:https://www.availcannabis.com/event/avail-west-buddy-check-coffee/2026-09-16/
LOCATION:Avail West\, Langford Legion Branch 91
END:VEVENT
BEGIN:VEVENT
DTSTART;TZID=UTC:20260918T090000
DTEND;TZID=UTC:20260918T110000
DTSTAMP:20260423T171820
CREATED:20251116T230638Z
LAST-MODIFIED:20251116T230748Z
UID:10000325-1789722000-1789729200@www.availcannabis.com
SUMMARY:Avail Veterans Oromocto- Red Friday Coffee
DESCRIPTION:
URL:https://www.availcannabis.com/event/avail-veterans-oromocto-red-friday-coffee/2026-09-18/
LOCATION:Avail Oromocto\, 282 Restigouche Rd\, Oromocto\, NB\, E2V 2H5
END:VEVENT
BEGIN:VEVENT
DTSTART;TZID=UTC:20260923T100000
DTEND;TZID=UTC:20260923T113000
DTSTAMP:20260423T171820
CREATED:20251116T231210Z
LAST-MODIFIED:20251116T231210Z
UID:10000587-1790157600-1790163000@www.availcannabis.com
SUMMARY:Avail West- Buddy check coffee
DESCRIPTION:
URL:https://www.availcannabis.com/event/avail-west-buddy-check-coffee/2026-09-23/
LOCATION:Avail West\, Langford Legion Branch 91
END:VEVENT
BEGIN:VEVENT
DTSTART;TZID=UTC:20260925T090000
DTEND;TZID=UTC:20260925T110000
DTSTAMP:20260423T171820
CREATED:20251116T230638Z
LAST-MODIFIED:20251116T230748Z
UID:10000326-1790326800-1790334000@www.availcannabis.com
SUMMARY:Avail Veterans Oromocto- Red Friday Coffee
DESCRIPTION:
URL:https://www.availcannabis.com/event/avail-veterans-oromocto-red-friday-coffee/2026-09-25/
LOCATION:Avail Oromocto\, 282 Restigouche Rd\, Oromocto\, NB\, E2V 2H5
END:VEVENT
BEGIN:VEVENT
DTSTART;TZID=UTC:20260930T100000
DTEND;TZID=UTC:20260930T113000
DTSTAMP:20260423T171820
CREATED:20251116T231210Z
LAST-MODIFIED:20251116T231210Z
UID:10000588-1790762400-1790767800@www.availcannabis.com
SUMMARY:Avail West- Buddy check coffee
DESCRIPTION:
URL:https://www.availcannabis.com/event/avail-west-buddy-check-coffee/2026-09-30/
LOCATION:Avail West\, Langford Legion Branch 91
END:VEVENT
BEGIN:VEVENT
DTSTART;TZID=UTC:20261002T090000
DTEND;TZID=UTC:20261002T110000
DTSTAMP:20260423T171820
CREATED:20251116T230638Z
LAST-MODIFIED:20251116T230748Z
UID:10000327-1790931600-1790938800@www.availcannabis.com
SUMMARY:Avail Veterans Oromocto- Red Friday Coffee
DESCRIPTION:
URL:https://www.availcannabis.com/event/avail-veterans-oromocto-red-friday-coffee/2026-10-02/
LOCATION:Avail Oromocto\, 282 Restigouche Rd\, Oromocto\, NB\, E2V 2H5
END:VEVENT
BEGIN:VEVENT
DTSTART;TZID=UTC:20261007T100000
DTEND;TZID=UTC:20261007T113000
DTSTAMP:20260423T171820
CREATED:20251116T231210Z
LAST-MODIFIED:20251116T231210Z
UID:10000589-1791367200-1791372600@www.availcannabis.com
SUMMARY:Avail West- Buddy check coffee
DESCRIPTION:
URL:https://www.availcannabis.com/event/avail-west-buddy-check-coffee/2026-10-07/
LOCATION:Avail West\, Langford Legion Branch 91
END:VEVENT
BEGIN:VEVENT
DTSTART;TZID=UTC:20261009T090000
DTEND;TZID=UTC:20261009T110000
DTSTAMP:20260423T171820
CREATED:20251116T230638Z
LAST-MODIFIED:20251116T230748Z
UID:10000328-1791536400-1791543600@www.availcannabis.com
SUMMARY:Avail Veterans Oromocto- Red Friday Coffee
DESCRIPTION:
URL:https://www.availcannabis.com/event/avail-veterans-oromocto-red-friday-coffee/2026-10-09/
LOCATION:Avail Oromocto\, 282 Restigouche Rd\, Oromocto\, NB\, E2V 2H5
END:VEVENT
BEGIN:VEVENT
DTSTART;TZID=UTC:20261014T100000
DTEND;TZID=UTC:20261014T113000
DTSTAMP:20260423T171820
CREATED:20251116T231210Z
LAST-MODIFIED:20251116T231210Z
UID:10000590-1791972000-1791977400@www.availcannabis.com
SUMMARY:Avail West- Buddy check coffee
DESCRIPTION:
URL:https://www.availcannabis.com/event/avail-west-buddy-check-coffee/2026-10-14/
LOCATION:Avail West\, Langford Legion Branch 91
END:VEVENT
BEGIN:VEVENT
DTSTART;TZID=UTC:20261016T090000
DTEND;TZID=UTC:20261016T110000
DTSTAMP:20260423T171820
CREATED:20251116T230638Z
LAST-MODIFIED:20251116T230748Z
UID:10000329-1792141200-1792148400@www.availcannabis.com
SUMMARY:Avail Veterans Oromocto- Red Friday Coffee
DESCRIPTION:
URL:https://www.availcannabis.com/event/avail-veterans-oromocto-red-friday-coffee/2026-10-16/
LOCATION:Avail Oromocto\, 282 Restigouche Rd\, Oromocto\, NB\, E2V 2H5
END:VEVENT
BEGIN:VEVENT
DTSTART;TZID=UTC:20261021T100000
DTEND;TZID=UTC:20261021T113000
DTSTAMP:20260423T171820
CREATED:20251116T231210Z
LAST-MODIFIED:20251116T231210Z
UID:10000591-1792576800-1792582200@www.availcannabis.com
SUMMARY:Avail West- Buddy check coffee
DESCRIPTION:
URL:https://www.availcannabis.com/event/avail-west-buddy-check-coffee/2026-10-21/
LOCATION:Avail West\, Langford Legion Branch 91
END:VEVENT
BEGIN:VEVENT
DTSTART;TZID=UTC:20261023T090000
DTEND;TZID=UTC:20261023T110000
DTSTAMP:20260423T171820
CREATED:20251116T230638Z
LAST-MODIFIED:20251116T230748Z
UID:10000330-1792746000-1792753200@www.availcannabis.com
SUMMARY:Avail Veterans Oromocto- Red Friday Coffee
DESCRIPTION:
URL:https://www.availcannabis.com/event/avail-veterans-oromocto-red-friday-coffee/2026-10-23/
LOCATION:Avail Oromocto\, 282 Restigouche Rd\, Oromocto\, NB\, E2V 2H5
END:VEVENT
BEGIN:VEVENT
DTSTART;TZID=UTC:20261028T100000
DTEND;TZID=UTC:20261028T113000
DTSTAMP:20260423T171820
CREATED:20251116T231210Z
LAST-MODIFIED:20251116T231210Z
UID:10000592-1793181600-1793187000@www.availcannabis.com
SUMMARY:Avail West- Buddy check coffee
DESCRIPTION:
URL:https://www.availcannabis.com/event/avail-west-buddy-check-coffee/2026-10-28/
LOCATION:Avail West\, Langford Legion Branch 91
END:VEVENT
END:VCALENDAR