BEGIN:VCALENDAR
VERSION:2.0
PRODID:-//Avail Cannabis - ECPv6.15.20//NONSGML v1.0//EN
CALSCALE:GREGORIAN
METHOD:PUBLISH
X-ORIGINAL-URL:https://www.availcannabis.com
X-WR-CALDESC:Events for Avail Cannabis
REFRESH-INTERVAL;VALUE=DURATION:PT1H
X-Robots-Tag:noindex
X-PUBLISHED-TTL:PT1H
BEGIN:VTIMEZONE
TZID:UTC
BEGIN:STANDARD
TZOFFSETFROM:+0000
TZOFFSETTO:+0000
TZNAME:UTC
DTSTART:20270101T000000
END:STANDARD
END:VTIMEZONE
BEGIN:VEVENT
DTSTART;TZID=UTC:20280524T100000
DTEND;TZID=UTC:20280524T113000
DTSTAMP:20260424T055922
CREATED:20251116T231210Z
LAST-MODIFIED:20251116T231210Z
UID:10000674-1842775200-1842780600@www.availcannabis.com
SUMMARY:Avail West- Buddy check coffee
DESCRIPTION:
URL:https://www.availcannabis.com/event/avail-west-buddy-check-coffee/2028-05-24/
LOCATION:Avail West\, Langford Legion Branch 91
END:VEVENT
BEGIN:VEVENT
DTSTART;TZID=UTC:20280531T100000
DTEND;TZID=UTC:20280531T113000
DTSTAMP:20260424T055922
CREATED:20251116T231210Z
LAST-MODIFIED:20251116T231210Z
UID:10000675-1843380000-1843385400@www.availcannabis.com
SUMMARY:Avail West- Buddy check coffee
DESCRIPTION:
URL:https://www.availcannabis.com/event/avail-west-buddy-check-coffee/2028-05-31/
LOCATION:Avail West\, Langford Legion Branch 91
END:VEVENT
BEGIN:VEVENT
DTSTART;TZID=UTC:20280607T100000
DTEND;TZID=UTC:20280607T113000
DTSTAMP:20260424T055922
CREATED:20251116T231210Z
LAST-MODIFIED:20251116T231210Z
UID:10000676-1843984800-1843990200@www.availcannabis.com
SUMMARY:Avail West- Buddy check coffee
DESCRIPTION:
URL:https://www.availcannabis.com/event/avail-west-buddy-check-coffee/2028-06-07/
LOCATION:Avail West\, Langford Legion Branch 91
END:VEVENT
BEGIN:VEVENT
DTSTART;TZID=UTC:20280614T100000
DTEND;TZID=UTC:20280614T113000
DTSTAMP:20260424T055922
CREATED:20251116T231210Z
LAST-MODIFIED:20251116T231210Z
UID:10000677-1844589600-1844595000@www.availcannabis.com
SUMMARY:Avail West- Buddy check coffee
DESCRIPTION:
URL:https://www.availcannabis.com/event/avail-west-buddy-check-coffee/2028-06-14/
LOCATION:Avail West\, Langford Legion Branch 91
END:VEVENT
BEGIN:VEVENT
DTSTART;TZID=UTC:20280621T100000
DTEND;TZID=UTC:20280621T113000
DTSTAMP:20260424T055922
CREATED:20251116T231210Z
LAST-MODIFIED:20251116T231210Z
UID:10000678-1845194400-1845199800@www.availcannabis.com
SUMMARY:Avail West- Buddy check coffee
DESCRIPTION:
URL:https://www.availcannabis.com/event/avail-west-buddy-check-coffee/2028-06-21/
LOCATION:Avail West\, Langford Legion Branch 91
END:VEVENT
BEGIN:VEVENT
DTSTART;TZID=UTC:20280628T100000
DTEND;TZID=UTC:20280628T113000
DTSTAMP:20260424T055922
CREATED:20251116T231210Z
LAST-MODIFIED:20251116T231210Z
UID:10000679-1845799200-1845804600@www.availcannabis.com
SUMMARY:Avail West- Buddy check coffee
DESCRIPTION:
URL:https://www.availcannabis.com/event/avail-west-buddy-check-coffee/2028-06-28/
LOCATION:Avail West\, Langford Legion Branch 91
END:VEVENT
BEGIN:VEVENT
DTSTART;TZID=UTC:20280705T100000
DTEND;TZID=UTC:20280705T113000
DTSTAMP:20260424T055922
CREATED:20251116T231210Z
LAST-MODIFIED:20251116T231210Z
UID:10000680-1846404000-1846409400@www.availcannabis.com
SUMMARY:Avail West- Buddy check coffee
DESCRIPTION:
URL:https://www.availcannabis.com/event/avail-west-buddy-check-coffee/2028-07-05/
LOCATION:Avail West\, Langford Legion Branch 91
END:VEVENT
BEGIN:VEVENT
DTSTART;TZID=UTC:20280712T100000
DTEND;TZID=UTC:20280712T113000
DTSTAMP:20260424T055922
CREATED:20251116T231210Z
LAST-MODIFIED:20251116T231210Z
UID:10000681-1847008800-1847014200@www.availcannabis.com
SUMMARY:Avail West- Buddy check coffee
DESCRIPTION:
URL:https://www.availcannabis.com/event/avail-west-buddy-check-coffee/2028-07-12/
LOCATION:Avail West\, Langford Legion Branch 91
END:VEVENT
BEGIN:VEVENT
DTSTART;TZID=UTC:20280719T100000
DTEND;TZID=UTC:20280719T113000
DTSTAMP:20260424T055922
CREATED:20251116T231210Z
LAST-MODIFIED:20251116T231210Z
UID:10000682-1847613600-1847619000@www.availcannabis.com
SUMMARY:Avail West- Buddy check coffee
DESCRIPTION:
URL:https://www.availcannabis.com/event/avail-west-buddy-check-coffee/2028-07-19/
LOCATION:Avail West\, Langford Legion Branch 91
END:VEVENT
BEGIN:VEVENT
DTSTART;TZID=UTC:20280726T100000
DTEND;TZID=UTC:20280726T113000
DTSTAMP:20260424T055922
CREATED:20251116T231210Z
LAST-MODIFIED:20251116T231210Z
UID:10000683-1848218400-1848223800@www.availcannabis.com
SUMMARY:Avail West- Buddy check coffee
DESCRIPTION:
URL:https://www.availcannabis.com/event/avail-west-buddy-check-coffee/2028-07-26/
LOCATION:Avail West\, Langford Legion Branch 91
END:VEVENT
BEGIN:VEVENT
DTSTART;TZID=UTC:20280802T100000
DTEND;TZID=UTC:20280802T113000
DTSTAMP:20260424T055922
CREATED:20251116T231210Z
LAST-MODIFIED:20251116T231210Z
UID:10000684-1848823200-1848828600@www.availcannabis.com
SUMMARY:Avail West- Buddy check coffee
DESCRIPTION:
URL:https://www.availcannabis.com/event/avail-west-buddy-check-coffee/2028-08-02/
LOCATION:Avail West\, Langford Legion Branch 91
END:VEVENT
BEGIN:VEVENT
DTSTART;TZID=UTC:20280809T100000
DTEND;TZID=UTC:20280809T113000
DTSTAMP:20260424T055922
CREATED:20251116T231210Z
LAST-MODIFIED:20251116T231210Z
UID:10000685-1849428000-1849433400@www.availcannabis.com
SUMMARY:Avail West- Buddy check coffee
DESCRIPTION:
URL:https://www.availcannabis.com/event/avail-west-buddy-check-coffee/2028-08-09/
LOCATION:Avail West\, Langford Legion Branch 91
END:VEVENT
BEGIN:VEVENT
DTSTART;TZID=UTC:20280816T100000
DTEND;TZID=UTC:20280816T113000
DTSTAMP:20260424T055922
CREATED:20251116T231210Z
LAST-MODIFIED:20251116T231210Z
UID:10000686-1850032800-1850038200@www.availcannabis.com
SUMMARY:Avail West- Buddy check coffee
DESCRIPTION:
URL:https://www.availcannabis.com/event/avail-west-buddy-check-coffee/2028-08-16/
LOCATION:Avail West\, Langford Legion Branch 91
END:VEVENT
BEGIN:VEVENT
DTSTART;TZID=UTC:20280823T100000
DTEND;TZID=UTC:20280823T113000
DTSTAMP:20260424T055922
CREATED:20251116T231210Z
LAST-MODIFIED:20251116T231210Z
UID:10000687-1850637600-1850643000@www.availcannabis.com
SUMMARY:Avail West- Buddy check coffee
DESCRIPTION:
URL:https://www.availcannabis.com/event/avail-west-buddy-check-coffee/2028-08-23/
LOCATION:Avail West\, Langford Legion Branch 91
END:VEVENT
BEGIN:VEVENT
DTSTART;TZID=UTC:20280830T100000
DTEND;TZID=UTC:20280830T113000
DTSTAMP:20260424T055922
CREATED:20251116T231210Z
LAST-MODIFIED:20251116T231210Z
UID:10000688-1851242400-1851247800@www.availcannabis.com
SUMMARY:Avail West- Buddy check coffee
DESCRIPTION:
URL:https://www.availcannabis.com/event/avail-west-buddy-check-coffee/2028-08-30/
LOCATION:Avail West\, Langford Legion Branch 91
END:VEVENT
BEGIN:VEVENT
DTSTART;TZID=UTC:20280906T100000
DTEND;TZID=UTC:20280906T113000
DTSTAMP:20260424T055922
CREATED:20251116T231210Z
LAST-MODIFIED:20251116T231210Z
UID:10000689-1851847200-1851852600@www.availcannabis.com
SUMMARY:Avail West- Buddy check coffee
DESCRIPTION:
URL:https://www.availcannabis.com/event/avail-west-buddy-check-coffee/2028-09-06/
LOCATION:Avail West\, Langford Legion Branch 91
END:VEVENT
BEGIN:VEVENT
DTSTART;TZID=UTC:20280913T100000
DTEND;TZID=UTC:20280913T113000
DTSTAMP:20260424T055922
CREATED:20251116T231210Z
LAST-MODIFIED:20251116T231210Z
UID:10000690-1852452000-1852457400@www.availcannabis.com
SUMMARY:Avail West- Buddy check coffee
DESCRIPTION:
URL:https://www.availcannabis.com/event/avail-west-buddy-check-coffee/2028-09-13/
LOCATION:Avail West\, Langford Legion Branch 91
END:VEVENT
BEGIN:VEVENT
DTSTART;TZID=UTC:20280920T100000
DTEND;TZID=UTC:20280920T113000
DTSTAMP:20260424T055922
CREATED:20251116T231210Z
LAST-MODIFIED:20251116T231210Z
UID:10000691-1853056800-1853062200@www.availcannabis.com
SUMMARY:Avail West- Buddy check coffee
DESCRIPTION:
URL:https://www.availcannabis.com/event/avail-west-buddy-check-coffee/2028-09-20/
LOCATION:Avail West\, Langford Legion Branch 91
END:VEVENT
BEGIN:VEVENT
DTSTART;TZID=UTC:20280927T100000
DTEND;TZID=UTC:20280927T113000
DTSTAMP:20260424T055922
CREATED:20251116T231210Z
LAST-MODIFIED:20251116T231210Z
UID:10000692-1853661600-1853667000@www.availcannabis.com
SUMMARY:Avail West- Buddy check coffee
DESCRIPTION:
URL:https://www.availcannabis.com/event/avail-west-buddy-check-coffee/2028-09-27/
LOCATION:Avail West\, Langford Legion Branch 91
END:VEVENT
BEGIN:VEVENT
DTSTART;TZID=UTC:20281004T100000
DTEND;TZID=UTC:20281004T113000
DTSTAMP:20260424T055922
CREATED:20251116T231210Z
LAST-MODIFIED:20251116T231210Z
UID:10000693-1854266400-1854271800@www.availcannabis.com
SUMMARY:Avail West- Buddy check coffee
DESCRIPTION:
URL:https://www.availcannabis.com/event/avail-west-buddy-check-coffee/2028-10-04/
LOCATION:Avail West\, Langford Legion Branch 91
END:VEVENT
BEGIN:VEVENT
DTSTART;TZID=UTC:20281011T100000
DTEND;TZID=UTC:20281011T113000
DTSTAMP:20260424T055922
CREATED:20251116T231210Z
LAST-MODIFIED:20251116T231210Z
UID:10000694-1854871200-1854876600@www.availcannabis.com
SUMMARY:Avail West- Buddy check coffee
DESCRIPTION:
URL:https://www.availcannabis.com/event/avail-west-buddy-check-coffee/2028-10-11/
LOCATION:Avail West\, Langford Legion Branch 91
END:VEVENT
BEGIN:VEVENT
DTSTART;TZID=UTC:20281018T100000
DTEND;TZID=UTC:20281018T113000
DTSTAMP:20260424T055922
CREATED:20251116T231210Z
LAST-MODIFIED:20251116T231210Z
UID:10000695-1855476000-1855481400@www.availcannabis.com
SUMMARY:Avail West- Buddy check coffee
DESCRIPTION:
URL:https://www.availcannabis.com/event/avail-west-buddy-check-coffee/2028-10-18/
LOCATION:Avail West\, Langford Legion Branch 91
END:VEVENT
BEGIN:VEVENT
DTSTART;TZID=UTC:20281025T100000
DTEND;TZID=UTC:20281025T113000
DTSTAMP:20260424T055922
CREATED:20251116T231210Z
LAST-MODIFIED:20251116T231210Z
UID:10000696-1856080800-1856086200@www.availcannabis.com
SUMMARY:Avail West- Buddy check coffee
DESCRIPTION:
URL:https://www.availcannabis.com/event/avail-west-buddy-check-coffee/2028-10-25/
LOCATION:Avail West\, Langford Legion Branch 91
END:VEVENT
BEGIN:VEVENT
DTSTART;TZID=UTC:20281101T100000
DTEND;TZID=UTC:20281101T113000
DTSTAMP:20260424T055922
CREATED:20251116T231210Z
LAST-MODIFIED:20251116T231210Z
UID:10000697-1856685600-1856691000@www.availcannabis.com
SUMMARY:Avail West- Buddy check coffee
DESCRIPTION:
URL:https://www.availcannabis.com/event/avail-west-buddy-check-coffee/2028-11-01/
LOCATION:Avail West\, Langford Legion Branch 91
END:VEVENT
BEGIN:VEVENT
DTSTART;TZID=UTC:20281108T100000
DTEND;TZID=UTC:20281108T113000
DTSTAMP:20260424T055922
CREATED:20251116T231210Z
LAST-MODIFIED:20251116T231210Z
UID:10000698-1857290400-1857295800@www.availcannabis.com
SUMMARY:Avail West- Buddy check coffee
DESCRIPTION:
URL:https://www.availcannabis.com/event/avail-west-buddy-check-coffee/2028-11-08/
LOCATION:Avail West\, Langford Legion Branch 91
END:VEVENT
BEGIN:VEVENT
DTSTART;TZID=UTC:20281115T100000
DTEND;TZID=UTC:20281115T113000
DTSTAMP:20260424T055922
CREATED:20251116T231210Z
LAST-MODIFIED:20251116T231210Z
UID:10000699-1857895200-1857900600@www.availcannabis.com
SUMMARY:Avail West- Buddy check coffee
DESCRIPTION:
URL:https://www.availcannabis.com/event/avail-west-buddy-check-coffee/2028-11-15/
LOCATION:Avail West\, Langford Legion Branch 91
END:VEVENT
BEGIN:VEVENT
DTSTART;TZID=UTC:20281122T100000
DTEND;TZID=UTC:20281122T113000
DTSTAMP:20260424T055922
CREATED:20251116T231210Z
LAST-MODIFIED:20251116T231210Z
UID:10000700-1858500000-1858505400@www.availcannabis.com
SUMMARY:Avail West- Buddy check coffee
DESCRIPTION:
URL:https://www.availcannabis.com/event/avail-west-buddy-check-coffee/2028-11-22/
LOCATION:Avail West\, Langford Legion Branch 91
END:VEVENT
BEGIN:VEVENT
DTSTART;TZID=UTC:20281129T100000
DTEND;TZID=UTC:20281129T113000
DTSTAMP:20260424T055922
CREATED:20251116T231210Z
LAST-MODIFIED:20251116T231210Z
UID:10000701-1859104800-1859110200@www.availcannabis.com
SUMMARY:Avail West- Buddy check coffee
DESCRIPTION:
URL:https://www.availcannabis.com/event/avail-west-buddy-check-coffee/2028-11-29/
LOCATION:Avail West\, Langford Legion Branch 91
END:VEVENT
BEGIN:VEVENT
DTSTART;TZID=UTC:20281206T100000
DTEND;TZID=UTC:20281206T113000
DTSTAMP:20260424T055922
CREATED:20251116T231210Z
LAST-MODIFIED:20251116T231210Z
UID:10000702-1859709600-1859715000@www.availcannabis.com
SUMMARY:Avail West- Buddy check coffee
DESCRIPTION:
URL:https://www.availcannabis.com/event/avail-west-buddy-check-coffee/2028-12-06/
LOCATION:Avail West\, Langford Legion Branch 91
END:VEVENT
BEGIN:VEVENT
DTSTART;TZID=UTC:20281213T100000
DTEND;TZID=UTC:20281213T113000
DTSTAMP:20260424T055922
CREATED:20251116T231210Z
LAST-MODIFIED:20251116T231210Z
UID:10000703-1860314400-1860319800@www.availcannabis.com
SUMMARY:Avail West- Buddy check coffee
DESCRIPTION:
URL:https://www.availcannabis.com/event/avail-west-buddy-check-coffee/2028-12-13/
LOCATION:Avail West\, Langford Legion Branch 91
END:VEVENT
END:VCALENDAR