BEGIN:VCALENDAR
VERSION:2.0
PRODID:-//Avail Cannabis - ECPv6.15.20//NONSGML v1.0//EN
CALSCALE:GREGORIAN
METHOD:PUBLISH
X-ORIGINAL-URL:https://www.availcannabis.com
X-WR-CALDESC:Events for Avail Cannabis
REFRESH-INTERVAL;VALUE=DURATION:PT1H
X-Robots-Tag:noindex
X-PUBLISHED-TTL:PT1H
BEGIN:VTIMEZONE
TZID:UTC
BEGIN:STANDARD
TZOFFSETFROM:+0000
TZOFFSETTO:+0000
TZNAME:UTC
DTSTART:20280101T000000
END:STANDARD
END:VTIMEZONE
BEGIN:VEVENT
DTSTART;TZID=UTC:20290131T100000
DTEND;TZID=UTC:20290131T113000
DTSTAMP:20260424T105016
CREATED:20251116T231210Z
LAST-MODIFIED:20251116T231210Z
UID:10000710-1864548000-1864553400@www.availcannabis.com
SUMMARY:Avail West- Buddy check coffee
DESCRIPTION:
URL:https://www.availcannabis.com/event/avail-west-buddy-check-coffee/2029-01-31/
LOCATION:Avail West\, Langford Legion Branch 91
END:VEVENT
BEGIN:VEVENT
DTSTART;TZID=UTC:20290207T100000
DTEND;TZID=UTC:20290207T113000
DTSTAMP:20260424T105016
CREATED:20251116T231210Z
LAST-MODIFIED:20251116T231210Z
UID:10000711-1865152800-1865158200@www.availcannabis.com
SUMMARY:Avail West- Buddy check coffee
DESCRIPTION:
URL:https://www.availcannabis.com/event/avail-west-buddy-check-coffee/2029-02-07/
LOCATION:Avail West\, Langford Legion Branch 91
END:VEVENT
BEGIN:VEVENT
DTSTART;TZID=UTC:20290214T100000
DTEND;TZID=UTC:20290214T113000
DTSTAMP:20260424T105016
CREATED:20251116T231210Z
LAST-MODIFIED:20251116T231210Z
UID:10000712-1865757600-1865763000@www.availcannabis.com
SUMMARY:Avail West- Buddy check coffee
DESCRIPTION:
URL:https://www.availcannabis.com/event/avail-west-buddy-check-coffee/2029-02-14/
LOCATION:Avail West\, Langford Legion Branch 91
END:VEVENT
BEGIN:VEVENT
DTSTART;TZID=UTC:20290221T100000
DTEND;TZID=UTC:20290221T113000
DTSTAMP:20260424T105016
CREATED:20251116T231210Z
LAST-MODIFIED:20251116T231210Z
UID:10000713-1866362400-1866367800@www.availcannabis.com
SUMMARY:Avail West- Buddy check coffee
DESCRIPTION:
URL:https://www.availcannabis.com/event/avail-west-buddy-check-coffee/2029-02-21/
LOCATION:Avail West\, Langford Legion Branch 91
END:VEVENT
BEGIN:VEVENT
DTSTART;TZID=UTC:20290228T100000
DTEND;TZID=UTC:20290228T113000
DTSTAMP:20260424T105016
CREATED:20251116T231210Z
LAST-MODIFIED:20251116T231210Z
UID:10000714-1866967200-1866972600@www.availcannabis.com
SUMMARY:Avail West- Buddy check coffee
DESCRIPTION:
URL:https://www.availcannabis.com/event/avail-west-buddy-check-coffee/2029-02-28/
LOCATION:Avail West\, Langford Legion Branch 91
END:VEVENT
BEGIN:VEVENT
DTSTART;TZID=UTC:20290307T100000
DTEND;TZID=UTC:20290307T113000
DTSTAMP:20260424T105016
CREATED:20251116T231210Z
LAST-MODIFIED:20251116T231210Z
UID:10000715-1867572000-1867577400@www.availcannabis.com
SUMMARY:Avail West- Buddy check coffee
DESCRIPTION:
URL:https://www.availcannabis.com/event/avail-west-buddy-check-coffee/2029-03-07/
LOCATION:Avail West\, Langford Legion Branch 91
END:VEVENT
BEGIN:VEVENT
DTSTART;TZID=UTC:20290314T100000
DTEND;TZID=UTC:20290314T113000
DTSTAMP:20260424T105016
CREATED:20251116T231210Z
LAST-MODIFIED:20251116T231210Z
UID:10000716-1868176800-1868182200@www.availcannabis.com
SUMMARY:Avail West- Buddy check coffee
DESCRIPTION:
URL:https://www.availcannabis.com/event/avail-west-buddy-check-coffee/2029-03-14/
LOCATION:Avail West\, Langford Legion Branch 91
END:VEVENT
BEGIN:VEVENT
DTSTART;TZID=UTC:20290321T100000
DTEND;TZID=UTC:20290321T113000
DTSTAMP:20260424T105016
CREATED:20251116T231210Z
LAST-MODIFIED:20251116T231210Z
UID:10000717-1868781600-1868787000@www.availcannabis.com
SUMMARY:Avail West- Buddy check coffee
DESCRIPTION:
URL:https://www.availcannabis.com/event/avail-west-buddy-check-coffee/2029-03-21/
LOCATION:Avail West\, Langford Legion Branch 91
END:VEVENT
BEGIN:VEVENT
DTSTART;TZID=UTC:20290328T100000
DTEND;TZID=UTC:20290328T113000
DTSTAMP:20260424T105016
CREATED:20251116T231210Z
LAST-MODIFIED:20251116T231210Z
UID:10000718-1869386400-1869391800@www.availcannabis.com
SUMMARY:Avail West- Buddy check coffee
DESCRIPTION:
URL:https://www.availcannabis.com/event/avail-west-buddy-check-coffee/2029-03-28/
LOCATION:Avail West\, Langford Legion Branch 91
END:VEVENT
BEGIN:VEVENT
DTSTART;TZID=UTC:20290404T100000
DTEND;TZID=UTC:20290404T113000
DTSTAMP:20260424T105016
CREATED:20251116T231210Z
LAST-MODIFIED:20251116T231210Z
UID:10000719-1869991200-1869996600@www.availcannabis.com
SUMMARY:Avail West- Buddy check coffee
DESCRIPTION:
URL:https://www.availcannabis.com/event/avail-west-buddy-check-coffee/2029-04-04/
LOCATION:Avail West\, Langford Legion Branch 91
END:VEVENT
BEGIN:VEVENT
DTSTART;TZID=UTC:20290411T100000
DTEND;TZID=UTC:20290411T113000
DTSTAMP:20260424T105016
CREATED:20251116T231210Z
LAST-MODIFIED:20251116T231210Z
UID:10000720-1870596000-1870601400@www.availcannabis.com
SUMMARY:Avail West- Buddy check coffee
DESCRIPTION:
URL:https://www.availcannabis.com/event/avail-west-buddy-check-coffee/2029-04-11/
LOCATION:Avail West\, Langford Legion Branch 91
END:VEVENT
BEGIN:VEVENT
DTSTART;TZID=UTC:20290418T100000
DTEND;TZID=UTC:20290418T113000
DTSTAMP:20260424T105016
CREATED:20251116T231210Z
LAST-MODIFIED:20251116T231210Z
UID:10000721-1871200800-1871206200@www.availcannabis.com
SUMMARY:Avail West- Buddy check coffee
DESCRIPTION:
URL:https://www.availcannabis.com/event/avail-west-buddy-check-coffee/2029-04-18/
LOCATION:Avail West\, Langford Legion Branch 91
END:VEVENT
BEGIN:VEVENT
DTSTART;TZID=UTC:20290425T100000
DTEND;TZID=UTC:20290425T113000
DTSTAMP:20260424T105016
CREATED:20251116T231210Z
LAST-MODIFIED:20251116T231210Z
UID:10000722-1871805600-1871811000@www.availcannabis.com
SUMMARY:Avail West- Buddy check coffee
DESCRIPTION:
URL:https://www.availcannabis.com/event/avail-west-buddy-check-coffee/2029-04-25/
LOCATION:Avail West\, Langford Legion Branch 91
END:VEVENT
BEGIN:VEVENT
DTSTART;TZID=UTC:20290502T100000
DTEND;TZID=UTC:20290502T113000
DTSTAMP:20260424T105016
CREATED:20251116T231210Z
LAST-MODIFIED:20251116T231210Z
UID:10000723-1872410400-1872415800@www.availcannabis.com
SUMMARY:Avail West- Buddy check coffee
DESCRIPTION:
URL:https://www.availcannabis.com/event/avail-west-buddy-check-coffee/2029-05-02/
LOCATION:Avail West\, Langford Legion Branch 91
END:VEVENT
BEGIN:VEVENT
DTSTART;TZID=UTC:20290509T100000
DTEND;TZID=UTC:20290509T113000
DTSTAMP:20260424T105016
CREATED:20251116T231210Z
LAST-MODIFIED:20251116T231210Z
UID:10000724-1873015200-1873020600@www.availcannabis.com
SUMMARY:Avail West- Buddy check coffee
DESCRIPTION:
URL:https://www.availcannabis.com/event/avail-west-buddy-check-coffee/2029-05-09/
LOCATION:Avail West\, Langford Legion Branch 91
END:VEVENT
BEGIN:VEVENT
DTSTART;TZID=UTC:20290516T100000
DTEND;TZID=UTC:20290516T113000
DTSTAMP:20260424T105016
CREATED:20251116T231210Z
LAST-MODIFIED:20251116T231210Z
UID:10000725-1873620000-1873625400@www.availcannabis.com
SUMMARY:Avail West- Buddy check coffee
DESCRIPTION:
URL:https://www.availcannabis.com/event/avail-west-buddy-check-coffee/2029-05-16/
LOCATION:Avail West\, Langford Legion Branch 91
END:VEVENT
BEGIN:VEVENT
DTSTART;TZID=UTC:20290523T100000
DTEND;TZID=UTC:20290523T113000
DTSTAMP:20260424T105016
CREATED:20251116T231210Z
LAST-MODIFIED:20251116T231210Z
UID:10000726-1874224800-1874230200@www.availcannabis.com
SUMMARY:Avail West- Buddy check coffee
DESCRIPTION:
URL:https://www.availcannabis.com/event/avail-west-buddy-check-coffee/2029-05-23/
LOCATION:Avail West\, Langford Legion Branch 91
END:VEVENT
BEGIN:VEVENT
DTSTART;TZID=UTC:20290530T100000
DTEND;TZID=UTC:20290530T113000
DTSTAMP:20260424T105016
CREATED:20251116T231210Z
LAST-MODIFIED:20251116T231210Z
UID:10000727-1874829600-1874835000@www.availcannabis.com
SUMMARY:Avail West- Buddy check coffee
DESCRIPTION:
URL:https://www.availcannabis.com/event/avail-west-buddy-check-coffee/2029-05-30/
LOCATION:Avail West\, Langford Legion Branch 91
END:VEVENT
BEGIN:VEVENT
DTSTART;TZID=UTC:20290606T100000
DTEND;TZID=UTC:20290606T113000
DTSTAMP:20260424T105016
CREATED:20251116T231210Z
LAST-MODIFIED:20251116T231210Z
UID:10000728-1875434400-1875439800@www.availcannabis.com
SUMMARY:Avail West- Buddy check coffee
DESCRIPTION:
URL:https://www.availcannabis.com/event/avail-west-buddy-check-coffee/2029-06-06/
LOCATION:Avail West\, Langford Legion Branch 91
END:VEVENT
BEGIN:VEVENT
DTSTART;TZID=UTC:20290613T100000
DTEND;TZID=UTC:20290613T113000
DTSTAMP:20260424T105016
CREATED:20251116T231210Z
LAST-MODIFIED:20251116T231210Z
UID:10000729-1876039200-1876044600@www.availcannabis.com
SUMMARY:Avail West- Buddy check coffee
DESCRIPTION:
URL:https://www.availcannabis.com/event/avail-west-buddy-check-coffee/2029-06-13/
LOCATION:Avail West\, Langford Legion Branch 91
END:VEVENT
BEGIN:VEVENT
DTSTART;TZID=UTC:20290620T100000
DTEND;TZID=UTC:20290620T113000
DTSTAMP:20260424T105016
CREATED:20251116T231210Z
LAST-MODIFIED:20251116T231210Z
UID:10000730-1876644000-1876649400@www.availcannabis.com
SUMMARY:Avail West- Buddy check coffee
DESCRIPTION:
URL:https://www.availcannabis.com/event/avail-west-buddy-check-coffee/2029-06-20/
LOCATION:Avail West\, Langford Legion Branch 91
END:VEVENT
BEGIN:VEVENT
DTSTART;TZID=UTC:20290627T100000
DTEND;TZID=UTC:20290627T113000
DTSTAMP:20260424T105016
CREATED:20251116T231210Z
LAST-MODIFIED:20251116T231210Z
UID:10000731-1877248800-1877254200@www.availcannabis.com
SUMMARY:Avail West- Buddy check coffee
DESCRIPTION:
URL:https://www.availcannabis.com/event/avail-west-buddy-check-coffee/2029-06-27/
LOCATION:Avail West\, Langford Legion Branch 91
END:VEVENT
BEGIN:VEVENT
DTSTART;TZID=UTC:20290704T100000
DTEND;TZID=UTC:20290704T113000
DTSTAMP:20260424T105016
CREATED:20251116T231210Z
LAST-MODIFIED:20251116T231210Z
UID:10000732-1877853600-1877859000@www.availcannabis.com
SUMMARY:Avail West- Buddy check coffee
DESCRIPTION:
URL:https://www.availcannabis.com/event/avail-west-buddy-check-coffee/2029-07-04/
LOCATION:Avail West\, Langford Legion Branch 91
END:VEVENT
BEGIN:VEVENT
DTSTART;TZID=UTC:20290711T100000
DTEND;TZID=UTC:20290711T113000
DTSTAMP:20260424T105016
CREATED:20251116T231210Z
LAST-MODIFIED:20251116T231210Z
UID:10000733-1878458400-1878463800@www.availcannabis.com
SUMMARY:Avail West- Buddy check coffee
DESCRIPTION:
URL:https://www.availcannabis.com/event/avail-west-buddy-check-coffee/2029-07-11/
LOCATION:Avail West\, Langford Legion Branch 91
END:VEVENT
BEGIN:VEVENT
DTSTART;TZID=UTC:20290718T100000
DTEND;TZID=UTC:20290718T113000
DTSTAMP:20260424T105016
CREATED:20251116T231210Z
LAST-MODIFIED:20251116T231210Z
UID:10000734-1879063200-1879068600@www.availcannabis.com
SUMMARY:Avail West- Buddy check coffee
DESCRIPTION:
URL:https://www.availcannabis.com/event/avail-west-buddy-check-coffee/2029-07-18/
LOCATION:Avail West\, Langford Legion Branch 91
END:VEVENT
BEGIN:VEVENT
DTSTART;TZID=UTC:20290725T100000
DTEND;TZID=UTC:20290725T113000
DTSTAMP:20260424T105016
CREATED:20251116T231210Z
LAST-MODIFIED:20251116T231210Z
UID:10000735-1879668000-1879673400@www.availcannabis.com
SUMMARY:Avail West- Buddy check coffee
DESCRIPTION:
URL:https://www.availcannabis.com/event/avail-west-buddy-check-coffee/2029-07-25/
LOCATION:Avail West\, Langford Legion Branch 91
END:VEVENT
BEGIN:VEVENT
DTSTART;TZID=UTC:20290801T100000
DTEND;TZID=UTC:20290801T113000
DTSTAMP:20260424T105016
CREATED:20251116T231210Z
LAST-MODIFIED:20251116T231210Z
UID:10000736-1880272800-1880278200@www.availcannabis.com
SUMMARY:Avail West- Buddy check coffee
DESCRIPTION:
URL:https://www.availcannabis.com/event/avail-west-buddy-check-coffee/2029-08-01/
LOCATION:Avail West\, Langford Legion Branch 91
END:VEVENT
BEGIN:VEVENT
DTSTART;TZID=UTC:20290808T100000
DTEND;TZID=UTC:20290808T113000
DTSTAMP:20260424T105016
CREATED:20251116T231210Z
LAST-MODIFIED:20251116T231210Z
UID:10000737-1880877600-1880883000@www.availcannabis.com
SUMMARY:Avail West- Buddy check coffee
DESCRIPTION:
URL:https://www.availcannabis.com/event/avail-west-buddy-check-coffee/2029-08-08/
LOCATION:Avail West\, Langford Legion Branch 91
END:VEVENT
BEGIN:VEVENT
DTSTART;TZID=UTC:20290815T100000
DTEND;TZID=UTC:20290815T113000
DTSTAMP:20260424T105016
CREATED:20251116T231210Z
LAST-MODIFIED:20251116T231210Z
UID:10000738-1881482400-1881487800@www.availcannabis.com
SUMMARY:Avail West- Buddy check coffee
DESCRIPTION:
URL:https://www.availcannabis.com/event/avail-west-buddy-check-coffee/2029-08-15/
LOCATION:Avail West\, Langford Legion Branch 91
END:VEVENT
BEGIN:VEVENT
DTSTART;TZID=UTC:20290822T100000
DTEND;TZID=UTC:20290822T113000
DTSTAMP:20260424T105016
CREATED:20251116T231210Z
LAST-MODIFIED:20251116T231210Z
UID:10000739-1882087200-1882092600@www.availcannabis.com
SUMMARY:Avail West- Buddy check coffee
DESCRIPTION:
URL:https://www.availcannabis.com/event/avail-west-buddy-check-coffee/2029-08-22/
LOCATION:Avail West\, Langford Legion Branch 91
END:VEVENT
END:VCALENDAR