BEGIN:VCALENDAR
VERSION:2.0
PRODID:-//Avail Cannabis - ECPv6.15.20//NONSGML v1.0//EN
CALSCALE:GREGORIAN
METHOD:PUBLISH
X-WR-CALNAME:Avail Cannabis
X-ORIGINAL-URL:https://www.availcannabis.com
X-WR-CALDESC:Events for Avail Cannabis
REFRESH-INTERVAL;VALUE=DURATION:PT1H
X-Robots-Tag:noindex
X-PUBLISHED-TTL:PT1H
BEGIN:VTIMEZONE
TZID:UTC
BEGIN:STANDARD
TZOFFSETFROM:+0000
TZOFFSETTO:+0000
TZNAME:UTC
DTSTART:20290101T000000
END:STANDARD
END:VTIMEZONE
BEGIN:VEVENT
DTSTART;TZID=UTC:20300327T100000
DTEND;TZID=UTC:20300327T113000
DTSTAMP:20260424T183031
CREATED:20251116T231210Z
LAST-MODIFIED:20251116T231210Z
UID:10000770-1900836000-1900841400@www.availcannabis.com
SUMMARY:Avail West- Buddy check coffee
DESCRIPTION:
URL:https://www.availcannabis.com/event/avail-west-buddy-check-coffee/2030-03-27/
LOCATION:Avail West\, Langford Legion Branch 91
END:VEVENT
BEGIN:VEVENT
DTSTART;TZID=UTC:20300403T100000
DTEND;TZID=UTC:20300403T113000
DTSTAMP:20260424T183031
CREATED:20251116T231210Z
LAST-MODIFIED:20251116T231210Z
UID:10000771-1901440800-1901446200@www.availcannabis.com
SUMMARY:Avail West- Buddy check coffee
DESCRIPTION:
URL:https://www.availcannabis.com/event/avail-west-buddy-check-coffee/2030-04-03/
LOCATION:Avail West\, Langford Legion Branch 91
END:VEVENT
BEGIN:VEVENT
DTSTART;TZID=UTC:20300410T100000
DTEND;TZID=UTC:20300410T113000
DTSTAMP:20260424T183031
CREATED:20251116T231210Z
LAST-MODIFIED:20251116T231210Z
UID:10000772-1902045600-1902051000@www.availcannabis.com
SUMMARY:Avail West- Buddy check coffee
DESCRIPTION:
URL:https://www.availcannabis.com/event/avail-west-buddy-check-coffee/2030-04-10/
LOCATION:Avail West\, Langford Legion Branch 91
END:VEVENT
BEGIN:VEVENT
DTSTART;TZID=UTC:20300417T100000
DTEND;TZID=UTC:20300417T113000
DTSTAMP:20260424T183031
CREATED:20251116T231210Z
LAST-MODIFIED:20251116T231210Z
UID:10000773-1902650400-1902655800@www.availcannabis.com
SUMMARY:Avail West- Buddy check coffee
DESCRIPTION:
URL:https://www.availcannabis.com/event/avail-west-buddy-check-coffee/2030-04-17/
LOCATION:Avail West\, Langford Legion Branch 91
END:VEVENT
BEGIN:VEVENT
DTSTART;TZID=UTC:20300424T100000
DTEND;TZID=UTC:20300424T113000
DTSTAMP:20260424T183031
CREATED:20251116T231210Z
LAST-MODIFIED:20251116T231210Z
UID:10000774-1903255200-1903260600@www.availcannabis.com
SUMMARY:Avail West- Buddy check coffee
DESCRIPTION:
URL:https://www.availcannabis.com/event/avail-west-buddy-check-coffee/2030-04-24/
LOCATION:Avail West\, Langford Legion Branch 91
END:VEVENT
BEGIN:VEVENT
DTSTART;TZID=UTC:20300501T100000
DTEND;TZID=UTC:20300501T113000
DTSTAMP:20260424T183031
CREATED:20251116T231210Z
LAST-MODIFIED:20251116T231210Z
UID:10000775-1903860000-1903865400@www.availcannabis.com
SUMMARY:Avail West- Buddy check coffee
DESCRIPTION:
URL:https://www.availcannabis.com/event/avail-west-buddy-check-coffee/2030-05-01/
LOCATION:Avail West\, Langford Legion Branch 91
END:VEVENT
BEGIN:VEVENT
DTSTART;TZID=UTC:20300508T100000
DTEND;TZID=UTC:20300508T113000
DTSTAMP:20260424T183031
CREATED:20251116T231210Z
LAST-MODIFIED:20251116T231210Z
UID:10000776-1904464800-1904470200@www.availcannabis.com
SUMMARY:Avail West- Buddy check coffee
DESCRIPTION:
URL:https://www.availcannabis.com/event/avail-west-buddy-check-coffee/2030-05-08/
LOCATION:Avail West\, Langford Legion Branch 91
END:VEVENT
BEGIN:VEVENT
DTSTART;TZID=UTC:20300515T100000
DTEND;TZID=UTC:20300515T113000
DTSTAMP:20260424T183031
CREATED:20251116T231210Z
LAST-MODIFIED:20251116T231210Z
UID:10000777-1905069600-1905075000@www.availcannabis.com
SUMMARY:Avail West- Buddy check coffee
DESCRIPTION:
URL:https://www.availcannabis.com/event/avail-west-buddy-check-coffee/2030-05-15/
LOCATION:Avail West\, Langford Legion Branch 91
END:VEVENT
BEGIN:VEVENT
DTSTART;TZID=UTC:20300522T100000
DTEND;TZID=UTC:20300522T113000
DTSTAMP:20260424T183031
CREATED:20251116T231210Z
LAST-MODIFIED:20251116T231210Z
UID:10000778-1905674400-1905679800@www.availcannabis.com
SUMMARY:Avail West- Buddy check coffee
DESCRIPTION:
URL:https://www.availcannabis.com/event/avail-west-buddy-check-coffee/2030-05-22/
LOCATION:Avail West\, Langford Legion Branch 91
END:VEVENT
BEGIN:VEVENT
DTSTART;TZID=UTC:20300529T100000
DTEND;TZID=UTC:20300529T113000
DTSTAMP:20260424T183031
CREATED:20251116T231210Z
LAST-MODIFIED:20251116T231210Z
UID:10000779-1906279200-1906284600@www.availcannabis.com
SUMMARY:Avail West- Buddy check coffee
DESCRIPTION:
URL:https://www.availcannabis.com/event/avail-west-buddy-check-coffee/2030-05-29/
LOCATION:Avail West\, Langford Legion Branch 91
END:VEVENT
BEGIN:VEVENT
DTSTART;TZID=UTC:20300605T100000
DTEND;TZID=UTC:20300605T113000
DTSTAMP:20260424T183031
CREATED:20251116T231210Z
LAST-MODIFIED:20251116T231210Z
UID:10000780-1906884000-1906889400@www.availcannabis.com
SUMMARY:Avail West- Buddy check coffee
DESCRIPTION:
URL:https://www.availcannabis.com/event/avail-west-buddy-check-coffee/2030-06-05/
LOCATION:Avail West\, Langford Legion Branch 91
END:VEVENT
BEGIN:VEVENT
DTSTART;TZID=UTC:20300612T100000
DTEND;TZID=UTC:20300612T113000
DTSTAMP:20260424T183031
CREATED:20251116T231210Z
LAST-MODIFIED:20251116T231210Z
UID:10000781-1907488800-1907494200@www.availcannabis.com
SUMMARY:Avail West- Buddy check coffee
DESCRIPTION:
URL:https://www.availcannabis.com/event/avail-west-buddy-check-coffee/2030-06-12/
LOCATION:Avail West\, Langford Legion Branch 91
END:VEVENT
BEGIN:VEVENT
DTSTART;TZID=UTC:20300619T100000
DTEND;TZID=UTC:20300619T113000
DTSTAMP:20260424T183031
CREATED:20251116T231210Z
LAST-MODIFIED:20251116T231210Z
UID:10000782-1908093600-1908099000@www.availcannabis.com
SUMMARY:Avail West- Buddy check coffee
DESCRIPTION:
URL:https://www.availcannabis.com/event/avail-west-buddy-check-coffee/2030-06-19/
LOCATION:Avail West\, Langford Legion Branch 91
END:VEVENT
BEGIN:VEVENT
DTSTART;TZID=UTC:20300626T100000
DTEND;TZID=UTC:20300626T113000
DTSTAMP:20260424T183031
CREATED:20251116T231210Z
LAST-MODIFIED:20251116T231210Z
UID:10000783-1908698400-1908703800@www.availcannabis.com
SUMMARY:Avail West- Buddy check coffee
DESCRIPTION:
URL:https://www.availcannabis.com/event/avail-west-buddy-check-coffee/2030-06-26/
LOCATION:Avail West\, Langford Legion Branch 91
END:VEVENT
BEGIN:VEVENT
DTSTART;TZID=UTC:20300703T100000
DTEND;TZID=UTC:20300703T113000
DTSTAMP:20260424T183031
CREATED:20251116T231210Z
LAST-MODIFIED:20251116T231210Z
UID:10000784-1909303200-1909308600@www.availcannabis.com
SUMMARY:Avail West- Buddy check coffee
DESCRIPTION:
URL:https://www.availcannabis.com/event/avail-west-buddy-check-coffee/2030-07-03/
LOCATION:Avail West\, Langford Legion Branch 91
END:VEVENT
BEGIN:VEVENT
DTSTART;TZID=UTC:20300710T100000
DTEND;TZID=UTC:20300710T113000
DTSTAMP:20260424T183031
CREATED:20251116T231210Z
LAST-MODIFIED:20251116T231210Z
UID:10000785-1909908000-1909913400@www.availcannabis.com
SUMMARY:Avail West- Buddy check coffee
DESCRIPTION:
URL:https://www.availcannabis.com/event/avail-west-buddy-check-coffee/2030-07-10/
LOCATION:Avail West\, Langford Legion Branch 91
END:VEVENT
BEGIN:VEVENT
DTSTART;TZID=UTC:20300717T100000
DTEND;TZID=UTC:20300717T113000
DTSTAMP:20260424T183031
CREATED:20251116T231210Z
LAST-MODIFIED:20251116T231210Z
UID:10000786-1910512800-1910518200@www.availcannabis.com
SUMMARY:Avail West- Buddy check coffee
DESCRIPTION:
URL:https://www.availcannabis.com/event/avail-west-buddy-check-coffee/2030-07-17/
LOCATION:Avail West\, Langford Legion Branch 91
END:VEVENT
BEGIN:VEVENT
DTSTART;TZID=UTC:20300724T100000
DTEND;TZID=UTC:20300724T113000
DTSTAMP:20260424T183031
CREATED:20251116T231210Z
LAST-MODIFIED:20251116T231210Z
UID:10000787-1911117600-1911123000@www.availcannabis.com
SUMMARY:Avail West- Buddy check coffee
DESCRIPTION:
URL:https://www.availcannabis.com/event/avail-west-buddy-check-coffee/2030-07-24/
LOCATION:Avail West\, Langford Legion Branch 91
END:VEVENT
BEGIN:VEVENT
DTSTART;TZID=UTC:20300731T100000
DTEND;TZID=UTC:20300731T113000
DTSTAMP:20260424T183031
CREATED:20251116T231210Z
LAST-MODIFIED:20251116T231210Z
UID:10000788-1911722400-1911727800@www.availcannabis.com
SUMMARY:Avail West- Buddy check coffee
DESCRIPTION:
URL:https://www.availcannabis.com/event/avail-west-buddy-check-coffee/2030-07-31/
LOCATION:Avail West\, Langford Legion Branch 91
END:VEVENT
BEGIN:VEVENT
DTSTART;TZID=UTC:20300807T100000
DTEND;TZID=UTC:20300807T113000
DTSTAMP:20260424T183031
CREATED:20251116T231210Z
LAST-MODIFIED:20251116T231210Z
UID:10000789-1912327200-1912332600@www.availcannabis.com
SUMMARY:Avail West- Buddy check coffee
DESCRIPTION:
URL:https://www.availcannabis.com/event/avail-west-buddy-check-coffee/2030-08-07/
LOCATION:Avail West\, Langford Legion Branch 91
END:VEVENT
BEGIN:VEVENT
DTSTART;TZID=UTC:20300814T100000
DTEND;TZID=UTC:20300814T113000
DTSTAMP:20260424T183031
CREATED:20251116T231210Z
LAST-MODIFIED:20251116T231210Z
UID:10000790-1912932000-1912937400@www.availcannabis.com
SUMMARY:Avail West- Buddy check coffee
DESCRIPTION:
URL:https://www.availcannabis.com/event/avail-west-buddy-check-coffee/2030-08-14/
LOCATION:Avail West\, Langford Legion Branch 91
END:VEVENT
BEGIN:VEVENT
DTSTART;TZID=UTC:20300821T100000
DTEND;TZID=UTC:20300821T113000
DTSTAMP:20260424T183031
CREATED:20251116T231210Z
LAST-MODIFIED:20251116T231210Z
UID:10000791-1913536800-1913542200@www.availcannabis.com
SUMMARY:Avail West- Buddy check coffee
DESCRIPTION:
URL:https://www.availcannabis.com/event/avail-west-buddy-check-coffee/2030-08-21/
LOCATION:Avail West\, Langford Legion Branch 91
END:VEVENT
BEGIN:VEVENT
DTSTART;TZID=UTC:20300828T100000
DTEND;TZID=UTC:20300828T113000
DTSTAMP:20260424T183031
CREATED:20251116T231210Z
LAST-MODIFIED:20251116T231210Z
UID:10000792-1914141600-1914147000@www.availcannabis.com
SUMMARY:Avail West- Buddy check coffee
DESCRIPTION:
URL:https://www.availcannabis.com/event/avail-west-buddy-check-coffee/2030-08-28/
LOCATION:Avail West\, Langford Legion Branch 91
END:VEVENT
BEGIN:VEVENT
DTSTART;TZID=UTC:20300904T100000
DTEND;TZID=UTC:20300904T113000
DTSTAMP:20260424T183031
CREATED:20251116T231210Z
LAST-MODIFIED:20251116T231210Z
UID:10000793-1914746400-1914751800@www.availcannabis.com
SUMMARY:Avail West- Buddy check coffee
DESCRIPTION:
URL:https://www.availcannabis.com/event/avail-west-buddy-check-coffee/2030-09-04/
LOCATION:Avail West\, Langford Legion Branch 91
END:VEVENT
BEGIN:VEVENT
DTSTART;TZID=UTC:20300911T100000
DTEND;TZID=UTC:20300911T113000
DTSTAMP:20260424T183031
CREATED:20251116T231210Z
LAST-MODIFIED:20251116T231210Z
UID:10000794-1915351200-1915356600@www.availcannabis.com
SUMMARY:Avail West- Buddy check coffee
DESCRIPTION:
URL:https://www.availcannabis.com/event/avail-west-buddy-check-coffee/2030-09-11/
LOCATION:Avail West\, Langford Legion Branch 91
END:VEVENT
BEGIN:VEVENT
DTSTART;TZID=UTC:20300918T100000
DTEND;TZID=UTC:20300918T113000
DTSTAMP:20260424T183031
CREATED:20251116T231210Z
LAST-MODIFIED:20251116T231210Z
UID:10000795-1915956000-1915961400@www.availcannabis.com
SUMMARY:Avail West- Buddy check coffee
DESCRIPTION:
URL:https://www.availcannabis.com/event/avail-west-buddy-check-coffee/2030-09-18/
LOCATION:Avail West\, Langford Legion Branch 91
END:VEVENT
BEGIN:VEVENT
DTSTART;TZID=UTC:20300925T100000
DTEND;TZID=UTC:20300925T113000
DTSTAMP:20260424T183031
CREATED:20251116T231210Z
LAST-MODIFIED:20251116T231210Z
UID:10000796-1916560800-1916566200@www.availcannabis.com
SUMMARY:Avail West- Buddy check coffee
DESCRIPTION:
URL:https://www.availcannabis.com/event/avail-west-buddy-check-coffee/2030-09-25/
LOCATION:Avail West\, Langford Legion Branch 91
END:VEVENT
BEGIN:VEVENT
DTSTART;TZID=UTC:20301002T100000
DTEND;TZID=UTC:20301002T113000
DTSTAMP:20260424T183031
CREATED:20251116T231210Z
LAST-MODIFIED:20251116T231210Z
UID:10000797-1917165600-1917171000@www.availcannabis.com
SUMMARY:Avail West- Buddy check coffee
DESCRIPTION:
URL:https://www.availcannabis.com/event/avail-west-buddy-check-coffee/2030-10-02/
LOCATION:Avail West\, Langford Legion Branch 91
END:VEVENT
BEGIN:VEVENT
DTSTART;TZID=UTC:20301009T100000
DTEND;TZID=UTC:20301009T113000
DTSTAMP:20260424T183031
CREATED:20251116T231210Z
LAST-MODIFIED:20251116T231210Z
UID:10000798-1917770400-1917775800@www.availcannabis.com
SUMMARY:Avail West- Buddy check coffee
DESCRIPTION:
URL:https://www.availcannabis.com/event/avail-west-buddy-check-coffee/2030-10-09/
LOCATION:Avail West\, Langford Legion Branch 91
END:VEVENT
BEGIN:VEVENT
DTSTART;TZID=UTC:20301016T100000
DTEND;TZID=UTC:20301016T113000
DTSTAMP:20260424T183031
CREATED:20251116T231210Z
LAST-MODIFIED:20251116T231210Z
UID:10000799-1918375200-1918380600@www.availcannabis.com
SUMMARY:Avail West- Buddy check coffee
DESCRIPTION:
URL:https://www.availcannabis.com/event/avail-west-buddy-check-coffee/2030-10-16/
LOCATION:Avail West\, Langford Legion Branch 91
END:VEVENT
END:VCALENDAR