BEGIN:VCALENDAR
VERSION:2.0
PRODID:-//Avail Cannabis - ECPv6.15.20//NONSGML v1.0//EN
CALSCALE:GREGORIAN
METHOD:PUBLISH
X-WR-CALNAME:Avail Cannabis
X-ORIGINAL-URL:https://www.availcannabis.com
X-WR-CALDESC:Events for Avail Cannabis
REFRESH-INTERVAL;VALUE=DURATION:PT1H
X-Robots-Tag:noindex
X-PUBLISHED-TTL:PT1H
BEGIN:VTIMEZONE
TZID:UTC
BEGIN:STANDARD
TZOFFSETFROM:+0000
TZOFFSETTO:+0000
TZNAME:UTC
DTSTART:20270101T000000
END:STANDARD
END:VTIMEZONE
BEGIN:VEVENT
DTSTART;TZID=UTC:20281103T090000
DTEND;TZID=UTC:20281103T110000
DTSTAMP:20260424T083829
CREATED:20251116T230638Z
LAST-MODIFIED:20251116T230748Z
UID:10000436-1856854800-1856862000@www.availcannabis.com
SUMMARY:Avail Veterans Oromocto- Red Friday Coffee
DESCRIPTION:
URL:https://www.availcannabis.com/event/avail-veterans-oromocto-red-friday-coffee/2028-11-03/
LOCATION:Avail Oromocto\, 282 Restigouche Rd\, Oromocto\, NB\, E2V 2H5
END:VEVENT
BEGIN:VEVENT
DTSTART;TZID=UTC:20281110T090000
DTEND;TZID=UTC:20281110T110000
DTSTAMP:20260424T083829
CREATED:20251116T230638Z
LAST-MODIFIED:20251116T230748Z
UID:10000437-1857459600-1857466800@www.availcannabis.com
SUMMARY:Avail Veterans Oromocto- Red Friday Coffee
DESCRIPTION:
URL:https://www.availcannabis.com/event/avail-veterans-oromocto-red-friday-coffee/2028-11-10/
LOCATION:Avail Oromocto\, 282 Restigouche Rd\, Oromocto\, NB\, E2V 2H5
END:VEVENT
BEGIN:VEVENT
DTSTART;TZID=UTC:20281117T090000
DTEND;TZID=UTC:20281117T110000
DTSTAMP:20260424T083829
CREATED:20251116T230638Z
LAST-MODIFIED:20251116T230748Z
UID:10000438-1858064400-1858071600@www.availcannabis.com
SUMMARY:Avail Veterans Oromocto- Red Friday Coffee
DESCRIPTION:
URL:https://www.availcannabis.com/event/avail-veterans-oromocto-red-friday-coffee/2028-11-17/
LOCATION:Avail Oromocto\, 282 Restigouche Rd\, Oromocto\, NB\, E2V 2H5
END:VEVENT
BEGIN:VEVENT
DTSTART;TZID=UTC:20281124T090000
DTEND;TZID=UTC:20281124T110000
DTSTAMP:20260424T083829
CREATED:20251116T230638Z
LAST-MODIFIED:20251116T230748Z
UID:10000439-1858669200-1858676400@www.availcannabis.com
SUMMARY:Avail Veterans Oromocto- Red Friday Coffee
DESCRIPTION:
URL:https://www.availcannabis.com/event/avail-veterans-oromocto-red-friday-coffee/2028-11-24/
LOCATION:Avail Oromocto\, 282 Restigouche Rd\, Oromocto\, NB\, E2V 2H5
END:VEVENT
BEGIN:VEVENT
DTSTART;TZID=UTC:20281201T090000
DTEND;TZID=UTC:20281201T110000
DTSTAMP:20260424T083829
CREATED:20251116T230638Z
LAST-MODIFIED:20251116T230748Z
UID:10000440-1859274000-1859281200@www.availcannabis.com
SUMMARY:Avail Veterans Oromocto- Red Friday Coffee
DESCRIPTION:
URL:https://www.availcannabis.com/event/avail-veterans-oromocto-red-friday-coffee/2028-12-01/
LOCATION:Avail Oromocto\, 282 Restigouche Rd\, Oromocto\, NB\, E2V 2H5
END:VEVENT
BEGIN:VEVENT
DTSTART;TZID=UTC:20281208T090000
DTEND;TZID=UTC:20281208T110000
DTSTAMP:20260424T083829
CREATED:20251116T230638Z
LAST-MODIFIED:20251116T230748Z
UID:10000441-1859878800-1859886000@www.availcannabis.com
SUMMARY:Avail Veterans Oromocto- Red Friday Coffee
DESCRIPTION:
URL:https://www.availcannabis.com/event/avail-veterans-oromocto-red-friday-coffee/2028-12-08/
LOCATION:Avail Oromocto\, 282 Restigouche Rd\, Oromocto\, NB\, E2V 2H5
END:VEVENT
BEGIN:VEVENT
DTSTART;TZID=UTC:20281215T090000
DTEND;TZID=UTC:20281215T110000
DTSTAMP:20260424T083829
CREATED:20251116T230638Z
LAST-MODIFIED:20251116T230748Z
UID:10000442-1860483600-1860490800@www.availcannabis.com
SUMMARY:Avail Veterans Oromocto- Red Friday Coffee
DESCRIPTION:
URL:https://www.availcannabis.com/event/avail-veterans-oromocto-red-friday-coffee/2028-12-15/
LOCATION:Avail Oromocto\, 282 Restigouche Rd\, Oromocto\, NB\, E2V 2H5
END:VEVENT
BEGIN:VEVENT
DTSTART;TZID=UTC:20281222T090000
DTEND;TZID=UTC:20281222T110000
DTSTAMP:20260424T083829
CREATED:20251116T230638Z
LAST-MODIFIED:20251116T230748Z
UID:10000443-1861088400-1861095600@www.availcannabis.com
SUMMARY:Avail Veterans Oromocto- Red Friday Coffee
DESCRIPTION:
URL:https://www.availcannabis.com/event/avail-veterans-oromocto-red-friday-coffee/2028-12-22/
LOCATION:Avail Oromocto\, 282 Restigouche Rd\, Oromocto\, NB\, E2V 2H5
END:VEVENT
BEGIN:VEVENT
DTSTART;TZID=UTC:20281229T090000
DTEND;TZID=UTC:20281229T110000
DTSTAMP:20260424T083829
CREATED:20251116T230638Z
LAST-MODIFIED:20251116T230748Z
UID:10000444-1861693200-1861700400@www.availcannabis.com
SUMMARY:Avail Veterans Oromocto- Red Friday Coffee
DESCRIPTION:
URL:https://www.availcannabis.com/event/avail-veterans-oromocto-red-friday-coffee/2028-12-29/
LOCATION:Avail Oromocto\, 282 Restigouche Rd\, Oromocto\, NB\, E2V 2H5
END:VEVENT
BEGIN:VEVENT
DTSTART;TZID=UTC:20290105T090000
DTEND;TZID=UTC:20290105T110000
DTSTAMP:20260424T083829
CREATED:20251116T230638Z
LAST-MODIFIED:20251116T230748Z
UID:10000445-1862298000-1862305200@www.availcannabis.com
SUMMARY:Avail Veterans Oromocto- Red Friday Coffee
DESCRIPTION:
URL:https://www.availcannabis.com/event/avail-veterans-oromocto-red-friday-coffee/2029-01-05/
LOCATION:Avail Oromocto\, 282 Restigouche Rd\, Oromocto\, NB\, E2V 2H5
END:VEVENT
BEGIN:VEVENT
DTSTART;TZID=UTC:20290112T090000
DTEND;TZID=UTC:20290112T110000
DTSTAMP:20260424T083829
CREATED:20251116T230638Z
LAST-MODIFIED:20251116T230748Z
UID:10000446-1862902800-1862910000@www.availcannabis.com
SUMMARY:Avail Veterans Oromocto- Red Friday Coffee
DESCRIPTION:
URL:https://www.availcannabis.com/event/avail-veterans-oromocto-red-friday-coffee/2029-01-12/
LOCATION:Avail Oromocto\, 282 Restigouche Rd\, Oromocto\, NB\, E2V 2H5
END:VEVENT
BEGIN:VEVENT
DTSTART;TZID=UTC:20290119T090000
DTEND;TZID=UTC:20290119T110000
DTSTAMP:20260424T083829
CREATED:20251116T230638Z
LAST-MODIFIED:20251116T230748Z
UID:10000447-1863507600-1863514800@www.availcannabis.com
SUMMARY:Avail Veterans Oromocto- Red Friday Coffee
DESCRIPTION:
URL:https://www.availcannabis.com/event/avail-veterans-oromocto-red-friday-coffee/2029-01-19/
LOCATION:Avail Oromocto\, 282 Restigouche Rd\, Oromocto\, NB\, E2V 2H5
END:VEVENT
BEGIN:VEVENT
DTSTART;TZID=UTC:20290126T090000
DTEND;TZID=UTC:20290126T110000
DTSTAMP:20260424T083829
CREATED:20251116T230638Z
LAST-MODIFIED:20251116T230748Z
UID:10000448-1864112400-1864119600@www.availcannabis.com
SUMMARY:Avail Veterans Oromocto- Red Friday Coffee
DESCRIPTION:
URL:https://www.availcannabis.com/event/avail-veterans-oromocto-red-friday-coffee/2029-01-26/
LOCATION:Avail Oromocto\, 282 Restigouche Rd\, Oromocto\, NB\, E2V 2H5
END:VEVENT
BEGIN:VEVENT
DTSTART;TZID=UTC:20290202T090000
DTEND;TZID=UTC:20290202T110000
DTSTAMP:20260424T083829
CREATED:20251116T230638Z
LAST-MODIFIED:20251116T230748Z
UID:10000449-1864717200-1864724400@www.availcannabis.com
SUMMARY:Avail Veterans Oromocto- Red Friday Coffee
DESCRIPTION:
URL:https://www.availcannabis.com/event/avail-veterans-oromocto-red-friday-coffee/2029-02-02/
LOCATION:Avail Oromocto\, 282 Restigouche Rd\, Oromocto\, NB\, E2V 2H5
END:VEVENT
BEGIN:VEVENT
DTSTART;TZID=UTC:20290209T090000
DTEND;TZID=UTC:20290209T110000
DTSTAMP:20260424T083829
CREATED:20251116T230638Z
LAST-MODIFIED:20251116T230748Z
UID:10000450-1865322000-1865329200@www.availcannabis.com
SUMMARY:Avail Veterans Oromocto- Red Friday Coffee
DESCRIPTION:
URL:https://www.availcannabis.com/event/avail-veterans-oromocto-red-friday-coffee/2029-02-09/
LOCATION:Avail Oromocto\, 282 Restigouche Rd\, Oromocto\, NB\, E2V 2H5
END:VEVENT
BEGIN:VEVENT
DTSTART;TZID=UTC:20290216T090000
DTEND;TZID=UTC:20290216T110000
DTSTAMP:20260424T083829
CREATED:20251116T230638Z
LAST-MODIFIED:20251116T230748Z
UID:10000451-1865926800-1865934000@www.availcannabis.com
SUMMARY:Avail Veterans Oromocto- Red Friday Coffee
DESCRIPTION:
URL:https://www.availcannabis.com/event/avail-veterans-oromocto-red-friday-coffee/2029-02-16/
LOCATION:Avail Oromocto\, 282 Restigouche Rd\, Oromocto\, NB\, E2V 2H5
END:VEVENT
BEGIN:VEVENT
DTSTART;TZID=UTC:20290223T090000
DTEND;TZID=UTC:20290223T110000
DTSTAMP:20260424T083829
CREATED:20251116T230638Z
LAST-MODIFIED:20251116T230748Z
UID:10000452-1866531600-1866538800@www.availcannabis.com
SUMMARY:Avail Veterans Oromocto- Red Friday Coffee
DESCRIPTION:
URL:https://www.availcannabis.com/event/avail-veterans-oromocto-red-friday-coffee/2029-02-23/
LOCATION:Avail Oromocto\, 282 Restigouche Rd\, Oromocto\, NB\, E2V 2H5
END:VEVENT
BEGIN:VEVENT
DTSTART;TZID=UTC:20290302T090000
DTEND;TZID=UTC:20290302T110000
DTSTAMP:20260424T083829
CREATED:20251116T230638Z
LAST-MODIFIED:20251116T230748Z
UID:10000453-1867136400-1867143600@www.availcannabis.com
SUMMARY:Avail Veterans Oromocto- Red Friday Coffee
DESCRIPTION:
URL:https://www.availcannabis.com/event/avail-veterans-oromocto-red-friday-coffee/2029-03-02/
LOCATION:Avail Oromocto\, 282 Restigouche Rd\, Oromocto\, NB\, E2V 2H5
END:VEVENT
BEGIN:VEVENT
DTSTART;TZID=UTC:20290309T090000
DTEND;TZID=UTC:20290309T110000
DTSTAMP:20260424T083829
CREATED:20251116T230638Z
LAST-MODIFIED:20251116T230748Z
UID:10000454-1867741200-1867748400@www.availcannabis.com
SUMMARY:Avail Veterans Oromocto- Red Friday Coffee
DESCRIPTION:
URL:https://www.availcannabis.com/event/avail-veterans-oromocto-red-friday-coffee/2029-03-09/
LOCATION:Avail Oromocto\, 282 Restigouche Rd\, Oromocto\, NB\, E2V 2H5
END:VEVENT
BEGIN:VEVENT
DTSTART;TZID=UTC:20290316T090000
DTEND;TZID=UTC:20290316T110000
DTSTAMP:20260424T083829
CREATED:20251116T230638Z
LAST-MODIFIED:20251116T230748Z
UID:10000455-1868346000-1868353200@www.availcannabis.com
SUMMARY:Avail Veterans Oromocto- Red Friday Coffee
DESCRIPTION:
URL:https://www.availcannabis.com/event/avail-veterans-oromocto-red-friday-coffee/2029-03-16/
LOCATION:Avail Oromocto\, 282 Restigouche Rd\, Oromocto\, NB\, E2V 2H5
END:VEVENT
BEGIN:VEVENT
DTSTART;TZID=UTC:20290323T090000
DTEND;TZID=UTC:20290323T110000
DTSTAMP:20260424T083829
CREATED:20251116T230638Z
LAST-MODIFIED:20251116T230748Z
UID:10000456-1868950800-1868958000@www.availcannabis.com
SUMMARY:Avail Veterans Oromocto- Red Friday Coffee
DESCRIPTION:
URL:https://www.availcannabis.com/event/avail-veterans-oromocto-red-friday-coffee/2029-03-23/
LOCATION:Avail Oromocto\, 282 Restigouche Rd\, Oromocto\, NB\, E2V 2H5
END:VEVENT
BEGIN:VEVENT
DTSTART;TZID=UTC:20290330T090000
DTEND;TZID=UTC:20290330T110000
DTSTAMP:20260424T083829
CREATED:20251116T230638Z
LAST-MODIFIED:20251116T230748Z
UID:10000457-1869555600-1869562800@www.availcannabis.com
SUMMARY:Avail Veterans Oromocto- Red Friday Coffee
DESCRIPTION:
URL:https://www.availcannabis.com/event/avail-veterans-oromocto-red-friday-coffee/2029-03-30/
LOCATION:Avail Oromocto\, 282 Restigouche Rd\, Oromocto\, NB\, E2V 2H5
END:VEVENT
BEGIN:VEVENT
DTSTART;TZID=UTC:20290406T090000
DTEND;TZID=UTC:20290406T110000
DTSTAMP:20260424T083829
CREATED:20251116T230638Z
LAST-MODIFIED:20251116T230748Z
UID:10000458-1870160400-1870167600@www.availcannabis.com
SUMMARY:Avail Veterans Oromocto- Red Friday Coffee
DESCRIPTION:
URL:https://www.availcannabis.com/event/avail-veterans-oromocto-red-friday-coffee/2029-04-06/
LOCATION:Avail Oromocto\, 282 Restigouche Rd\, Oromocto\, NB\, E2V 2H5
END:VEVENT
BEGIN:VEVENT
DTSTART;TZID=UTC:20290413T090000
DTEND;TZID=UTC:20290413T110000
DTSTAMP:20260424T083829
CREATED:20251116T230638Z
LAST-MODIFIED:20251116T230748Z
UID:10000459-1870765200-1870772400@www.availcannabis.com
SUMMARY:Avail Veterans Oromocto- Red Friday Coffee
DESCRIPTION:
URL:https://www.availcannabis.com/event/avail-veterans-oromocto-red-friday-coffee/2029-04-13/
LOCATION:Avail Oromocto\, 282 Restigouche Rd\, Oromocto\, NB\, E2V 2H5
END:VEVENT
BEGIN:VEVENT
DTSTART;TZID=UTC:20290420T090000
DTEND;TZID=UTC:20290420T110000
DTSTAMP:20260424T083829
CREATED:20251116T230638Z
LAST-MODIFIED:20251116T230748Z
UID:10000460-1871370000-1871377200@www.availcannabis.com
SUMMARY:Avail Veterans Oromocto- Red Friday Coffee
DESCRIPTION:
URL:https://www.availcannabis.com/event/avail-veterans-oromocto-red-friday-coffee/2029-04-20/
LOCATION:Avail Oromocto\, 282 Restigouche Rd\, Oromocto\, NB\, E2V 2H5
END:VEVENT
BEGIN:VEVENT
DTSTART;TZID=UTC:20290427T090000
DTEND;TZID=UTC:20290427T110000
DTSTAMP:20260424T083829
CREATED:20251116T230638Z
LAST-MODIFIED:20251116T230748Z
UID:10000461-1871974800-1871982000@www.availcannabis.com
SUMMARY:Avail Veterans Oromocto- Red Friday Coffee
DESCRIPTION:
URL:https://www.availcannabis.com/event/avail-veterans-oromocto-red-friday-coffee/2029-04-27/
LOCATION:Avail Oromocto\, 282 Restigouche Rd\, Oromocto\, NB\, E2V 2H5
END:VEVENT
BEGIN:VEVENT
DTSTART;TZID=UTC:20290504T090000
DTEND;TZID=UTC:20290504T110000
DTSTAMP:20260424T083829
CREATED:20251116T230638Z
LAST-MODIFIED:20251116T230748Z
UID:10000462-1872579600-1872586800@www.availcannabis.com
SUMMARY:Avail Veterans Oromocto- Red Friday Coffee
DESCRIPTION:
URL:https://www.availcannabis.com/event/avail-veterans-oromocto-red-friday-coffee/2029-05-04/
LOCATION:Avail Oromocto\, 282 Restigouche Rd\, Oromocto\, NB\, E2V 2H5
END:VEVENT
BEGIN:VEVENT
DTSTART;TZID=UTC:20290511T090000
DTEND;TZID=UTC:20290511T110000
DTSTAMP:20260424T083829
CREATED:20251116T230638Z
LAST-MODIFIED:20251116T230748Z
UID:10000463-1873184400-1873191600@www.availcannabis.com
SUMMARY:Avail Veterans Oromocto- Red Friday Coffee
DESCRIPTION:
URL:https://www.availcannabis.com/event/avail-veterans-oromocto-red-friday-coffee/2029-05-11/
LOCATION:Avail Oromocto\, 282 Restigouche Rd\, Oromocto\, NB\, E2V 2H5
END:VEVENT
BEGIN:VEVENT
DTSTART;TZID=UTC:20290518T090000
DTEND;TZID=UTC:20290518T110000
DTSTAMP:20260424T083829
CREATED:20251116T230638Z
LAST-MODIFIED:20251116T230748Z
UID:10000464-1873789200-1873796400@www.availcannabis.com
SUMMARY:Avail Veterans Oromocto- Red Friday Coffee
DESCRIPTION:
URL:https://www.availcannabis.com/event/avail-veterans-oromocto-red-friday-coffee/2029-05-18/
LOCATION:Avail Oromocto\, 282 Restigouche Rd\, Oromocto\, NB\, E2V 2H5
END:VEVENT
BEGIN:VEVENT
DTSTART;TZID=UTC:20290525T090000
DTEND;TZID=UTC:20290525T110000
DTSTAMP:20260424T083829
CREATED:20251116T230638Z
LAST-MODIFIED:20251116T230748Z
UID:10000465-1874394000-1874401200@www.availcannabis.com
SUMMARY:Avail Veterans Oromocto- Red Friday Coffee
DESCRIPTION:
URL:https://www.availcannabis.com/event/avail-veterans-oromocto-red-friday-coffee/2029-05-25/
LOCATION:Avail Oromocto\, 282 Restigouche Rd\, Oromocto\, NB\, E2V 2H5
END:VEVENT
END:VCALENDAR