BEGIN:VCALENDAR
VERSION:2.0
PRODID:-//Avail Cannabis - ECPv6.15.20//NONSGML v1.0//EN
CALSCALE:GREGORIAN
METHOD:PUBLISH
X-ORIGINAL-URL:https://www.availcannabis.com
X-WR-CALDESC:Events for Avail Cannabis
REFRESH-INTERVAL;VALUE=DURATION:PT1H
X-Robots-Tag:noindex
X-PUBLISHED-TTL:PT1H
BEGIN:VTIMEZONE
TZID:UTC
BEGIN:STANDARD
TZOFFSETFROM:+0000
TZOFFSETTO:+0000
TZNAME:UTC
DTSTART:20290101T000000
END:STANDARD
END:VTIMEZONE
BEGIN:VEVENT
DTSTART;TZID=UTC:20300104T090000
DTEND;TZID=UTC:20300104T110000
DTSTAMP:20260424T160548
CREATED:20251116T230638Z
LAST-MODIFIED:20251116T230748Z
UID:10000497-1893747600-1893754800@www.availcannabis.com
SUMMARY:Avail Veterans Oromocto- Red Friday Coffee
DESCRIPTION:
URL:https://www.availcannabis.com/event/avail-veterans-oromocto-red-friday-coffee/2030-01-04/
LOCATION:Avail Oromocto\, 282 Restigouche Rd\, Oromocto\, NB\, E2V 2H5
END:VEVENT
BEGIN:VEVENT
DTSTART;TZID=UTC:20300111T090000
DTEND;TZID=UTC:20300111T110000
DTSTAMP:20260424T160548
CREATED:20251116T230638Z
LAST-MODIFIED:20251116T230748Z
UID:10000498-1894352400-1894359600@www.availcannabis.com
SUMMARY:Avail Veterans Oromocto- Red Friday Coffee
DESCRIPTION:
URL:https://www.availcannabis.com/event/avail-veterans-oromocto-red-friday-coffee/2030-01-11/
LOCATION:Avail Oromocto\, 282 Restigouche Rd\, Oromocto\, NB\, E2V 2H5
END:VEVENT
BEGIN:VEVENT
DTSTART;TZID=UTC:20300118T090000
DTEND;TZID=UTC:20300118T110000
DTSTAMP:20260424T160548
CREATED:20251116T230638Z
LAST-MODIFIED:20251116T230748Z
UID:10000499-1894957200-1894964400@www.availcannabis.com
SUMMARY:Avail Veterans Oromocto- Red Friday Coffee
DESCRIPTION:
URL:https://www.availcannabis.com/event/avail-veterans-oromocto-red-friday-coffee/2030-01-18/
LOCATION:Avail Oromocto\, 282 Restigouche Rd\, Oromocto\, NB\, E2V 2H5
END:VEVENT
BEGIN:VEVENT
DTSTART;TZID=UTC:20300125T090000
DTEND;TZID=UTC:20300125T110000
DTSTAMP:20260424T160548
CREATED:20251116T230638Z
LAST-MODIFIED:20251116T230748Z
UID:10000500-1895562000-1895569200@www.availcannabis.com
SUMMARY:Avail Veterans Oromocto- Red Friday Coffee
DESCRIPTION:
URL:https://www.availcannabis.com/event/avail-veterans-oromocto-red-friday-coffee/2030-01-25/
LOCATION:Avail Oromocto\, 282 Restigouche Rd\, Oromocto\, NB\, E2V 2H5
END:VEVENT
BEGIN:VEVENT
DTSTART;TZID=UTC:20300201T090000
DTEND;TZID=UTC:20300201T110000
DTSTAMP:20260424T160548
CREATED:20251116T230638Z
LAST-MODIFIED:20251116T230748Z
UID:10000501-1896166800-1896174000@www.availcannabis.com
SUMMARY:Avail Veterans Oromocto- Red Friday Coffee
DESCRIPTION:
URL:https://www.availcannabis.com/event/avail-veterans-oromocto-red-friday-coffee/2030-02-01/
LOCATION:Avail Oromocto\, 282 Restigouche Rd\, Oromocto\, NB\, E2V 2H5
END:VEVENT
BEGIN:VEVENT
DTSTART;TZID=UTC:20300208T090000
DTEND;TZID=UTC:20300208T110000
DTSTAMP:20260424T160548
CREATED:20251116T230638Z
LAST-MODIFIED:20251116T230748Z
UID:10000502-1896771600-1896778800@www.availcannabis.com
SUMMARY:Avail Veterans Oromocto- Red Friday Coffee
DESCRIPTION:
URL:https://www.availcannabis.com/event/avail-veterans-oromocto-red-friday-coffee/2030-02-08/
LOCATION:Avail Oromocto\, 282 Restigouche Rd\, Oromocto\, NB\, E2V 2H5
END:VEVENT
BEGIN:VEVENT
DTSTART;TZID=UTC:20300215T090000
DTEND;TZID=UTC:20300215T110000
DTSTAMP:20260424T160548
CREATED:20251116T230638Z
LAST-MODIFIED:20251116T230748Z
UID:10000503-1897376400-1897383600@www.availcannabis.com
SUMMARY:Avail Veterans Oromocto- Red Friday Coffee
DESCRIPTION:
URL:https://www.availcannabis.com/event/avail-veterans-oromocto-red-friday-coffee/2030-02-15/
LOCATION:Avail Oromocto\, 282 Restigouche Rd\, Oromocto\, NB\, E2V 2H5
END:VEVENT
BEGIN:VEVENT
DTSTART;TZID=UTC:20300222T090000
DTEND;TZID=UTC:20300222T110000
DTSTAMP:20260424T160548
CREATED:20251116T230638Z
LAST-MODIFIED:20251116T230748Z
UID:10000504-1897981200-1897988400@www.availcannabis.com
SUMMARY:Avail Veterans Oromocto- Red Friday Coffee
DESCRIPTION:
URL:https://www.availcannabis.com/event/avail-veterans-oromocto-red-friday-coffee/2030-02-22/
LOCATION:Avail Oromocto\, 282 Restigouche Rd\, Oromocto\, NB\, E2V 2H5
END:VEVENT
BEGIN:VEVENT
DTSTART;TZID=UTC:20300301T090000
DTEND;TZID=UTC:20300301T110000
DTSTAMP:20260424T160548
CREATED:20251116T230638Z
LAST-MODIFIED:20251116T230748Z
UID:10000505-1898586000-1898593200@www.availcannabis.com
SUMMARY:Avail Veterans Oromocto- Red Friday Coffee
DESCRIPTION:
URL:https://www.availcannabis.com/event/avail-veterans-oromocto-red-friday-coffee/2030-03-01/
LOCATION:Avail Oromocto\, 282 Restigouche Rd\, Oromocto\, NB\, E2V 2H5
END:VEVENT
BEGIN:VEVENT
DTSTART;TZID=UTC:20300308T090000
DTEND;TZID=UTC:20300308T110000
DTSTAMP:20260424T160548
CREATED:20251116T230638Z
LAST-MODIFIED:20251116T230748Z
UID:10000506-1899190800-1899198000@www.availcannabis.com
SUMMARY:Avail Veterans Oromocto- Red Friday Coffee
DESCRIPTION:
URL:https://www.availcannabis.com/event/avail-veterans-oromocto-red-friday-coffee/2030-03-08/
LOCATION:Avail Oromocto\, 282 Restigouche Rd\, Oromocto\, NB\, E2V 2H5
END:VEVENT
BEGIN:VEVENT
DTSTART;TZID=UTC:20300315T090000
DTEND;TZID=UTC:20300315T110000
DTSTAMP:20260424T160548
CREATED:20251116T230638Z
LAST-MODIFIED:20251116T230748Z
UID:10000507-1899795600-1899802800@www.availcannabis.com
SUMMARY:Avail Veterans Oromocto- Red Friday Coffee
DESCRIPTION:
URL:https://www.availcannabis.com/event/avail-veterans-oromocto-red-friday-coffee/2030-03-15/
LOCATION:Avail Oromocto\, 282 Restigouche Rd\, Oromocto\, NB\, E2V 2H5
END:VEVENT
BEGIN:VEVENT
DTSTART;TZID=UTC:20300322T090000
DTEND;TZID=UTC:20300322T110000
DTSTAMP:20260424T160548
CREATED:20251116T230638Z
LAST-MODIFIED:20251116T230748Z
UID:10000508-1900400400-1900407600@www.availcannabis.com
SUMMARY:Avail Veterans Oromocto- Red Friday Coffee
DESCRIPTION:
URL:https://www.availcannabis.com/event/avail-veterans-oromocto-red-friday-coffee/2030-03-22/
LOCATION:Avail Oromocto\, 282 Restigouche Rd\, Oromocto\, NB\, E2V 2H5
END:VEVENT
BEGIN:VEVENT
DTSTART;TZID=UTC:20300329T090000
DTEND;TZID=UTC:20300329T110000
DTSTAMP:20260424T160548
CREATED:20251116T230638Z
LAST-MODIFIED:20251116T230748Z
UID:10000509-1901005200-1901012400@www.availcannabis.com
SUMMARY:Avail Veterans Oromocto- Red Friday Coffee
DESCRIPTION:
URL:https://www.availcannabis.com/event/avail-veterans-oromocto-red-friday-coffee/2030-03-29/
LOCATION:Avail Oromocto\, 282 Restigouche Rd\, Oromocto\, NB\, E2V 2H5
END:VEVENT
BEGIN:VEVENT
DTSTART;TZID=UTC:20300405T090000
DTEND;TZID=UTC:20300405T110000
DTSTAMP:20260424T160548
CREATED:20251116T230638Z
LAST-MODIFIED:20251116T230748Z
UID:10000510-1901610000-1901617200@www.availcannabis.com
SUMMARY:Avail Veterans Oromocto- Red Friday Coffee
DESCRIPTION:
URL:https://www.availcannabis.com/event/avail-veterans-oromocto-red-friday-coffee/2030-04-05/
LOCATION:Avail Oromocto\, 282 Restigouche Rd\, Oromocto\, NB\, E2V 2H5
END:VEVENT
BEGIN:VEVENT
DTSTART;TZID=UTC:20300412T090000
DTEND;TZID=UTC:20300412T110000
DTSTAMP:20260424T160548
CREATED:20251116T230638Z
LAST-MODIFIED:20251116T230748Z
UID:10000511-1902214800-1902222000@www.availcannabis.com
SUMMARY:Avail Veterans Oromocto- Red Friday Coffee
DESCRIPTION:
URL:https://www.availcannabis.com/event/avail-veterans-oromocto-red-friday-coffee/2030-04-12/
LOCATION:Avail Oromocto\, 282 Restigouche Rd\, Oromocto\, NB\, E2V 2H5
END:VEVENT
BEGIN:VEVENT
DTSTART;TZID=UTC:20300419T090000
DTEND;TZID=UTC:20300419T110000
DTSTAMP:20260424T160548
CREATED:20251116T230638Z
LAST-MODIFIED:20251116T230748Z
UID:10000512-1902819600-1902826800@www.availcannabis.com
SUMMARY:Avail Veterans Oromocto- Red Friday Coffee
DESCRIPTION:
URL:https://www.availcannabis.com/event/avail-veterans-oromocto-red-friday-coffee/2030-04-19/
LOCATION:Avail Oromocto\, 282 Restigouche Rd\, Oromocto\, NB\, E2V 2H5
END:VEVENT
BEGIN:VEVENT
DTSTART;TZID=UTC:20300426T090000
DTEND;TZID=UTC:20300426T110000
DTSTAMP:20260424T160548
CREATED:20251116T230638Z
LAST-MODIFIED:20251116T230748Z
UID:10000513-1903424400-1903431600@www.availcannabis.com
SUMMARY:Avail Veterans Oromocto- Red Friday Coffee
DESCRIPTION:
URL:https://www.availcannabis.com/event/avail-veterans-oromocto-red-friday-coffee/2030-04-26/
LOCATION:Avail Oromocto\, 282 Restigouche Rd\, Oromocto\, NB\, E2V 2H5
END:VEVENT
BEGIN:VEVENT
DTSTART;TZID=UTC:20300503T090000
DTEND;TZID=UTC:20300503T110000
DTSTAMP:20260424T160548
CREATED:20251116T230638Z
LAST-MODIFIED:20251116T230748Z
UID:10000514-1904029200-1904036400@www.availcannabis.com
SUMMARY:Avail Veterans Oromocto- Red Friday Coffee
DESCRIPTION:
URL:https://www.availcannabis.com/event/avail-veterans-oromocto-red-friday-coffee/2030-05-03/
LOCATION:Avail Oromocto\, 282 Restigouche Rd\, Oromocto\, NB\, E2V 2H5
END:VEVENT
BEGIN:VEVENT
DTSTART;TZID=UTC:20300510T090000
DTEND;TZID=UTC:20300510T110000
DTSTAMP:20260424T160548
CREATED:20251116T230638Z
LAST-MODIFIED:20251116T230748Z
UID:10000515-1904634000-1904641200@www.availcannabis.com
SUMMARY:Avail Veterans Oromocto- Red Friday Coffee
DESCRIPTION:
URL:https://www.availcannabis.com/event/avail-veterans-oromocto-red-friday-coffee/2030-05-10/
LOCATION:Avail Oromocto\, 282 Restigouche Rd\, Oromocto\, NB\, E2V 2H5
END:VEVENT
BEGIN:VEVENT
DTSTART;TZID=UTC:20300517T090000
DTEND;TZID=UTC:20300517T110000
DTSTAMP:20260424T160548
CREATED:20251116T230638Z
LAST-MODIFIED:20251116T230748Z
UID:10000516-1905238800-1905246000@www.availcannabis.com
SUMMARY:Avail Veterans Oromocto- Red Friday Coffee
DESCRIPTION:
URL:https://www.availcannabis.com/event/avail-veterans-oromocto-red-friday-coffee/2030-05-17/
LOCATION:Avail Oromocto\, 282 Restigouche Rd\, Oromocto\, NB\, E2V 2H5
END:VEVENT
BEGIN:VEVENT
DTSTART;TZID=UTC:20300524T090000
DTEND;TZID=UTC:20300524T110000
DTSTAMP:20260424T160548
CREATED:20251116T230638Z
LAST-MODIFIED:20251116T230748Z
UID:10000517-1905843600-1905850800@www.availcannabis.com
SUMMARY:Avail Veterans Oromocto- Red Friday Coffee
DESCRIPTION:
URL:https://www.availcannabis.com/event/avail-veterans-oromocto-red-friday-coffee/2030-05-24/
LOCATION:Avail Oromocto\, 282 Restigouche Rd\, Oromocto\, NB\, E2V 2H5
END:VEVENT
BEGIN:VEVENT
DTSTART;TZID=UTC:20300531T090000
DTEND;TZID=UTC:20300531T110000
DTSTAMP:20260424T160548
CREATED:20251116T230638Z
LAST-MODIFIED:20251116T230748Z
UID:10000518-1906448400-1906455600@www.availcannabis.com
SUMMARY:Avail Veterans Oromocto- Red Friday Coffee
DESCRIPTION:
URL:https://www.availcannabis.com/event/avail-veterans-oromocto-red-friday-coffee/2030-05-31/
LOCATION:Avail Oromocto\, 282 Restigouche Rd\, Oromocto\, NB\, E2V 2H5
END:VEVENT
BEGIN:VEVENT
DTSTART;TZID=UTC:20300607T090000
DTEND;TZID=UTC:20300607T110000
DTSTAMP:20260424T160548
CREATED:20251116T230638Z
LAST-MODIFIED:20251116T230748Z
UID:10000519-1907053200-1907060400@www.availcannabis.com
SUMMARY:Avail Veterans Oromocto- Red Friday Coffee
DESCRIPTION:
URL:https://www.availcannabis.com/event/avail-veterans-oromocto-red-friday-coffee/2030-06-07/
LOCATION:Avail Oromocto\, 282 Restigouche Rd\, Oromocto\, NB\, E2V 2H5
END:VEVENT
BEGIN:VEVENT
DTSTART;TZID=UTC:20300614T090000
DTEND;TZID=UTC:20300614T110000
DTSTAMP:20260424T160548
CREATED:20251116T230638Z
LAST-MODIFIED:20251116T230748Z
UID:10000520-1907658000-1907665200@www.availcannabis.com
SUMMARY:Avail Veterans Oromocto- Red Friday Coffee
DESCRIPTION:
URL:https://www.availcannabis.com/event/avail-veterans-oromocto-red-friday-coffee/2030-06-14/
LOCATION:Avail Oromocto\, 282 Restigouche Rd\, Oromocto\, NB\, E2V 2H5
END:VEVENT
BEGIN:VEVENT
DTSTART;TZID=UTC:20300621T090000
DTEND;TZID=UTC:20300621T110000
DTSTAMP:20260424T160548
CREATED:20251116T230638Z
LAST-MODIFIED:20251116T230748Z
UID:10000521-1908262800-1908270000@www.availcannabis.com
SUMMARY:Avail Veterans Oromocto- Red Friday Coffee
DESCRIPTION:
URL:https://www.availcannabis.com/event/avail-veterans-oromocto-red-friday-coffee/2030-06-21/
LOCATION:Avail Oromocto\, 282 Restigouche Rd\, Oromocto\, NB\, E2V 2H5
END:VEVENT
BEGIN:VEVENT
DTSTART;TZID=UTC:20300628T090000
DTEND;TZID=UTC:20300628T110000
DTSTAMP:20260424T160548
CREATED:20251116T230638Z
LAST-MODIFIED:20251116T230748Z
UID:10000522-1908867600-1908874800@www.availcannabis.com
SUMMARY:Avail Veterans Oromocto- Red Friday Coffee
DESCRIPTION:
URL:https://www.availcannabis.com/event/avail-veterans-oromocto-red-friday-coffee/2030-06-28/
LOCATION:Avail Oromocto\, 282 Restigouche Rd\, Oromocto\, NB\, E2V 2H5
END:VEVENT
BEGIN:VEVENT
DTSTART;TZID=UTC:20300705T090000
DTEND;TZID=UTC:20300705T110000
DTSTAMP:20260424T160548
CREATED:20251116T230638Z
LAST-MODIFIED:20251116T230748Z
UID:10000523-1909472400-1909479600@www.availcannabis.com
SUMMARY:Avail Veterans Oromocto- Red Friday Coffee
DESCRIPTION:
URL:https://www.availcannabis.com/event/avail-veterans-oromocto-red-friday-coffee/2030-07-05/
LOCATION:Avail Oromocto\, 282 Restigouche Rd\, Oromocto\, NB\, E2V 2H5
END:VEVENT
BEGIN:VEVENT
DTSTART;TZID=UTC:20300712T090000
DTEND;TZID=UTC:20300712T110000
DTSTAMP:20260424T160548
CREATED:20251116T230638Z
LAST-MODIFIED:20251116T230748Z
UID:10000524-1910077200-1910084400@www.availcannabis.com
SUMMARY:Avail Veterans Oromocto- Red Friday Coffee
DESCRIPTION:
URL:https://www.availcannabis.com/event/avail-veterans-oromocto-red-friday-coffee/2030-07-12/
LOCATION:Avail Oromocto\, 282 Restigouche Rd\, Oromocto\, NB\, E2V 2H5
END:VEVENT
BEGIN:VEVENT
DTSTART;TZID=UTC:20300719T090000
DTEND;TZID=UTC:20300719T110000
DTSTAMP:20260424T160548
CREATED:20251116T230638Z
LAST-MODIFIED:20251116T230748Z
UID:10000525-1910682000-1910689200@www.availcannabis.com
SUMMARY:Avail Veterans Oromocto- Red Friday Coffee
DESCRIPTION:
URL:https://www.availcannabis.com/event/avail-veterans-oromocto-red-friday-coffee/2030-07-19/
LOCATION:Avail Oromocto\, 282 Restigouche Rd\, Oromocto\, NB\, E2V 2H5
END:VEVENT
BEGIN:VEVENT
DTSTART;TZID=UTC:20300726T090000
DTEND;TZID=UTC:20300726T110000
DTSTAMP:20260424T160548
CREATED:20251116T230638Z
LAST-MODIFIED:20251116T230748Z
UID:10000526-1911286800-1911294000@www.availcannabis.com
SUMMARY:Avail Veterans Oromocto- Red Friday Coffee
DESCRIPTION:
URL:https://www.availcannabis.com/event/avail-veterans-oromocto-red-friday-coffee/2030-07-26/
LOCATION:Avail Oromocto\, 282 Restigouche Rd\, Oromocto\, NB\, E2V 2H5
END:VEVENT
END:VCALENDAR