BEGIN:VCALENDAR
VERSION:2.0
PRODID:-//Avail Cannabis - ECPv6.15.20//NONSGML v1.0//EN
CALSCALE:GREGORIAN
METHOD:PUBLISH
X-ORIGINAL-URL:https://www.availcannabis.com
X-WR-CALDESC:Events for Avail Cannabis
REFRESH-INTERVAL;VALUE=DURATION:PT1H
X-Robots-Tag:noindex
X-PUBLISHED-TTL:PT1H
BEGIN:VTIMEZONE
TZID:UTC
BEGIN:STANDARD
TZOFFSETFROM:+0000
TZOFFSETTO:+0000
TZNAME:UTC
DTSTART:20290101T000000
END:STANDARD
END:VTIMEZONE
BEGIN:VEVENT
DTSTART;TZID=UTC:20300913T090000
DTEND;TZID=UTC:20300913T110000
DTSTAMP:20260424T202812
CREATED:20251116T230638Z
LAST-MODIFIED:20251116T230748Z
UID:10000533-1915520400-1915527600@www.availcannabis.com
SUMMARY:Avail Veterans Oromocto- Red Friday Coffee
DESCRIPTION:
URL:https://www.availcannabis.com/event/avail-veterans-oromocto-red-friday-coffee/2030-09-13/
LOCATION:Avail Oromocto\, 282 Restigouche Rd\, Oromocto\, NB\, E2V 2H5
END:VEVENT
BEGIN:VEVENT
DTSTART;TZID=UTC:20300920T090000
DTEND;TZID=UTC:20300920T110000
DTSTAMP:20260424T202812
CREATED:20251116T230638Z
LAST-MODIFIED:20251116T230748Z
UID:10000534-1916125200-1916132400@www.availcannabis.com
SUMMARY:Avail Veterans Oromocto- Red Friday Coffee
DESCRIPTION:
URL:https://www.availcannabis.com/event/avail-veterans-oromocto-red-friday-coffee/2030-09-20/
LOCATION:Avail Oromocto\, 282 Restigouche Rd\, Oromocto\, NB\, E2V 2H5
END:VEVENT
BEGIN:VEVENT
DTSTART;TZID=UTC:20300927T090000
DTEND;TZID=UTC:20300927T110000
DTSTAMP:20260424T202812
CREATED:20251116T230638Z
LAST-MODIFIED:20251116T230748Z
UID:10000535-1916730000-1916737200@www.availcannabis.com
SUMMARY:Avail Veterans Oromocto- Red Friday Coffee
DESCRIPTION:
URL:https://www.availcannabis.com/event/avail-veterans-oromocto-red-friday-coffee/2030-09-27/
LOCATION:Avail Oromocto\, 282 Restigouche Rd\, Oromocto\, NB\, E2V 2H5
END:VEVENT
BEGIN:VEVENT
DTSTART;TZID=UTC:20301004T090000
DTEND;TZID=UTC:20301004T110000
DTSTAMP:20260424T202812
CREATED:20251116T230638Z
LAST-MODIFIED:20251116T230748Z
UID:10000536-1917334800-1917342000@www.availcannabis.com
SUMMARY:Avail Veterans Oromocto- Red Friday Coffee
DESCRIPTION:
URL:https://www.availcannabis.com/event/avail-veterans-oromocto-red-friday-coffee/2030-10-04/
LOCATION:Avail Oromocto\, 282 Restigouche Rd\, Oromocto\, NB\, E2V 2H5
END:VEVENT
BEGIN:VEVENT
DTSTART;TZID=UTC:20301011T090000
DTEND;TZID=UTC:20301011T110000
DTSTAMP:20260424T202812
CREATED:20251116T230638Z
LAST-MODIFIED:20251116T230748Z
UID:10000537-1917939600-1917946800@www.availcannabis.com
SUMMARY:Avail Veterans Oromocto- Red Friday Coffee
DESCRIPTION:
URL:https://www.availcannabis.com/event/avail-veterans-oromocto-red-friday-coffee/2030-10-11/
LOCATION:Avail Oromocto\, 282 Restigouche Rd\, Oromocto\, NB\, E2V 2H5
END:VEVENT
BEGIN:VEVENT
DTSTART;TZID=UTC:20301018T090000
DTEND;TZID=UTC:20301018T110000
DTSTAMP:20260424T202812
CREATED:20251116T230638Z
LAST-MODIFIED:20251116T230748Z
UID:10000538-1918544400-1918551600@www.availcannabis.com
SUMMARY:Avail Veterans Oromocto- Red Friday Coffee
DESCRIPTION:
URL:https://www.availcannabis.com/event/avail-veterans-oromocto-red-friday-coffee/2030-10-18/
LOCATION:Avail Oromocto\, 282 Restigouche Rd\, Oromocto\, NB\, E2V 2H5
END:VEVENT
BEGIN:VEVENT
DTSTART;TZID=UTC:20301025T090000
DTEND;TZID=UTC:20301025T110000
DTSTAMP:20260424T202812
CREATED:20251116T230638Z
LAST-MODIFIED:20251116T230748Z
UID:10000539-1919149200-1919156400@www.availcannabis.com
SUMMARY:Avail Veterans Oromocto- Red Friday Coffee
DESCRIPTION:
URL:https://www.availcannabis.com/event/avail-veterans-oromocto-red-friday-coffee/2030-10-25/
LOCATION:Avail Oromocto\, 282 Restigouche Rd\, Oromocto\, NB\, E2V 2H5
END:VEVENT
BEGIN:VEVENT
DTSTART;TZID=UTC:20301101T090000
DTEND;TZID=UTC:20301101T110000
DTSTAMP:20260424T202812
CREATED:20251116T230638Z
LAST-MODIFIED:20251116T230748Z
UID:10000540-1919754000-1919761200@www.availcannabis.com
SUMMARY:Avail Veterans Oromocto- Red Friday Coffee
DESCRIPTION:
URL:https://www.availcannabis.com/event/avail-veterans-oromocto-red-friday-coffee/2030-11-01/
LOCATION:Avail Oromocto\, 282 Restigouche Rd\, Oromocto\, NB\, E2V 2H5
END:VEVENT
BEGIN:VEVENT
DTSTART;TZID=UTC:20301108T090000
DTEND;TZID=UTC:20301108T110000
DTSTAMP:20260424T202812
CREATED:20251116T230638Z
LAST-MODIFIED:20251116T230748Z
UID:10000541-1920358800-1920366000@www.availcannabis.com
SUMMARY:Avail Veterans Oromocto- Red Friday Coffee
DESCRIPTION:
URL:https://www.availcannabis.com/event/avail-veterans-oromocto-red-friday-coffee/2030-11-08/
LOCATION:Avail Oromocto\, 282 Restigouche Rd\, Oromocto\, NB\, E2V 2H5
END:VEVENT
BEGIN:VEVENT
DTSTART;TZID=UTC:20301115T090000
DTEND;TZID=UTC:20301115T110000
DTSTAMP:20260424T202812
CREATED:20251116T230638Z
LAST-MODIFIED:20251116T230748Z
UID:10000542-1920963600-1920970800@www.availcannabis.com
SUMMARY:Avail Veterans Oromocto- Red Friday Coffee
DESCRIPTION:
URL:https://www.availcannabis.com/event/avail-veterans-oromocto-red-friday-coffee/2030-11-15/
LOCATION:Avail Oromocto\, 282 Restigouche Rd\, Oromocto\, NB\, E2V 2H5
END:VEVENT
END:VCALENDAR