BEGIN:VCALENDAR
VERSION:2.0
PRODID:-//Avail Cannabis - ECPv6.15.20//NONSGML v1.0//EN
CALSCALE:GREGORIAN
METHOD:PUBLISH
X-WR-CALNAME:Avail Cannabis
X-ORIGINAL-URL:https://www.availcannabis.com
X-WR-CALDESC:Events for Avail Cannabis
REFRESH-INTERVAL;VALUE=DURATION:PT1H
X-Robots-Tag:noindex
X-PUBLISHED-TTL:PT1H
BEGIN:VTIMEZONE
TZID:UTC
BEGIN:STANDARD
TZOFFSETFROM:+0000
TZOFFSETTO:+0000
TZNAME:UTC
DTSTART:20250101T000000
END:STANDARD
END:VTIMEZONE
BEGIN:VEVENT
DTSTART;TZID=UTC:20261009T090000
DTEND;TZID=UTC:20261009T110000
DTSTAMP:20260423T203038
CREATED:20251116T230638Z
LAST-MODIFIED:20251116T230748Z
UID:10000328-1791536400-1791543600@www.availcannabis.com
SUMMARY:Avail Veterans Oromocto- Red Friday Coffee
DESCRIPTION:
URL:https://www.availcannabis.com/event/avail-veterans-oromocto-red-friday-coffee/2026-10-09/
LOCATION:Avail Oromocto\, 282 Restigouche Rd\, Oromocto\, NB\, E2V 2H5
END:VEVENT
BEGIN:VEVENT
DTSTART;TZID=UTC:20261016T090000
DTEND;TZID=UTC:20261016T110000
DTSTAMP:20260423T203038
CREATED:20251116T230638Z
LAST-MODIFIED:20251116T230748Z
UID:10000329-1792141200-1792148400@www.availcannabis.com
SUMMARY:Avail Veterans Oromocto- Red Friday Coffee
DESCRIPTION:
URL:https://www.availcannabis.com/event/avail-veterans-oromocto-red-friday-coffee/2026-10-16/
LOCATION:Avail Oromocto\, 282 Restigouche Rd\, Oromocto\, NB\, E2V 2H5
END:VEVENT
BEGIN:VEVENT
DTSTART;TZID=UTC:20261023T090000
DTEND;TZID=UTC:20261023T110000
DTSTAMP:20260423T203038
CREATED:20251116T230638Z
LAST-MODIFIED:20251116T230748Z
UID:10000330-1792746000-1792753200@www.availcannabis.com
SUMMARY:Avail Veterans Oromocto- Red Friday Coffee
DESCRIPTION:
URL:https://www.availcannabis.com/event/avail-veterans-oromocto-red-friday-coffee/2026-10-23/
LOCATION:Avail Oromocto\, 282 Restigouche Rd\, Oromocto\, NB\, E2V 2H5
END:VEVENT
BEGIN:VEVENT
DTSTART;TZID=UTC:20261030T090000
DTEND;TZID=UTC:20261030T110000
DTSTAMP:20260423T203038
CREATED:20251116T230638Z
LAST-MODIFIED:20251116T230748Z
UID:10000331-1793350800-1793358000@www.availcannabis.com
SUMMARY:Avail Veterans Oromocto- Red Friday Coffee
DESCRIPTION:
URL:https://www.availcannabis.com/event/avail-veterans-oromocto-red-friday-coffee/2026-10-30/
LOCATION:Avail Oromocto\, 282 Restigouche Rd\, Oromocto\, NB\, E2V 2H5
END:VEVENT
BEGIN:VEVENT
DTSTART;TZID=UTC:20261106T090000
DTEND;TZID=UTC:20261106T110000
DTSTAMP:20260423T203038
CREATED:20251116T230638Z
LAST-MODIFIED:20251116T230748Z
UID:10000332-1793955600-1793962800@www.availcannabis.com
SUMMARY:Avail Veterans Oromocto- Red Friday Coffee
DESCRIPTION:
URL:https://www.availcannabis.com/event/avail-veterans-oromocto-red-friday-coffee/2026-11-06/
LOCATION:Avail Oromocto\, 282 Restigouche Rd\, Oromocto\, NB\, E2V 2H5
END:VEVENT
BEGIN:VEVENT
DTSTART;TZID=UTC:20261113T090000
DTEND;TZID=UTC:20261113T110000
DTSTAMP:20260423T203038
CREATED:20251116T230638Z
LAST-MODIFIED:20251116T230748Z
UID:10000333-1794560400-1794567600@www.availcannabis.com
SUMMARY:Avail Veterans Oromocto- Red Friday Coffee
DESCRIPTION:
URL:https://www.availcannabis.com/event/avail-veterans-oromocto-red-friday-coffee/2026-11-13/
LOCATION:Avail Oromocto\, 282 Restigouche Rd\, Oromocto\, NB\, E2V 2H5
END:VEVENT
BEGIN:VEVENT
DTSTART;TZID=UTC:20261120T090000
DTEND;TZID=UTC:20261120T110000
DTSTAMP:20260423T203038
CREATED:20251116T230638Z
LAST-MODIFIED:20251116T230748Z
UID:10000334-1795165200-1795172400@www.availcannabis.com
SUMMARY:Avail Veterans Oromocto- Red Friday Coffee
DESCRIPTION:
URL:https://www.availcannabis.com/event/avail-veterans-oromocto-red-friday-coffee/2026-11-20/
LOCATION:Avail Oromocto\, 282 Restigouche Rd\, Oromocto\, NB\, E2V 2H5
END:VEVENT
BEGIN:VEVENT
DTSTART;TZID=UTC:20261127T090000
DTEND;TZID=UTC:20261127T110000
DTSTAMP:20260423T203038
CREATED:20251116T230638Z
LAST-MODIFIED:20251116T230748Z
UID:10000335-1795770000-1795777200@www.availcannabis.com
SUMMARY:Avail Veterans Oromocto- Red Friday Coffee
DESCRIPTION:
URL:https://www.availcannabis.com/event/avail-veterans-oromocto-red-friday-coffee/2026-11-27/
LOCATION:Avail Oromocto\, 282 Restigouche Rd\, Oromocto\, NB\, E2V 2H5
END:VEVENT
BEGIN:VEVENT
DTSTART;TZID=UTC:20261204T090000
DTEND;TZID=UTC:20261204T110000
DTSTAMP:20260423T203038
CREATED:20251116T230638Z
LAST-MODIFIED:20251116T230748Z
UID:10000336-1796374800-1796382000@www.availcannabis.com
SUMMARY:Avail Veterans Oromocto- Red Friday Coffee
DESCRIPTION:
URL:https://www.availcannabis.com/event/avail-veterans-oromocto-red-friday-coffee/2026-12-04/
LOCATION:Avail Oromocto\, 282 Restigouche Rd\, Oromocto\, NB\, E2V 2H5
END:VEVENT
BEGIN:VEVENT
DTSTART;TZID=UTC:20261211T090000
DTEND;TZID=UTC:20261211T110000
DTSTAMP:20260423T203038
CREATED:20251116T230638Z
LAST-MODIFIED:20251116T230748Z
UID:10000337-1796979600-1796986800@www.availcannabis.com
SUMMARY:Avail Veterans Oromocto- Red Friday Coffee
DESCRIPTION:
URL:https://www.availcannabis.com/event/avail-veterans-oromocto-red-friday-coffee/2026-12-11/
LOCATION:Avail Oromocto\, 282 Restigouche Rd\, Oromocto\, NB\, E2V 2H5
END:VEVENT
BEGIN:VEVENT
DTSTART;TZID=UTC:20261218T090000
DTEND;TZID=UTC:20261218T110000
DTSTAMP:20260423T203038
CREATED:20251116T230638Z
LAST-MODIFIED:20251116T230748Z
UID:10000338-1797584400-1797591600@www.availcannabis.com
SUMMARY:Avail Veterans Oromocto- Red Friday Coffee
DESCRIPTION:
URL:https://www.availcannabis.com/event/avail-veterans-oromocto-red-friday-coffee/2026-12-18/
LOCATION:Avail Oromocto\, 282 Restigouche Rd\, Oromocto\, NB\, E2V 2H5
END:VEVENT
BEGIN:VEVENT
DTSTART;TZID=UTC:20261225T090000
DTEND;TZID=UTC:20261225T110000
DTSTAMP:20260423T203038
CREATED:20251116T230638Z
LAST-MODIFIED:20251116T230748Z
UID:10000339-1798189200-1798196400@www.availcannabis.com
SUMMARY:Avail Veterans Oromocto- Red Friday Coffee
DESCRIPTION:
URL:https://www.availcannabis.com/event/avail-veterans-oromocto-red-friday-coffee/2026-12-25/
LOCATION:Avail Oromocto\, 282 Restigouche Rd\, Oromocto\, NB\, E2V 2H5
END:VEVENT
BEGIN:VEVENT
DTSTART;TZID=UTC:20270101T090000
DTEND;TZID=UTC:20270101T110000
DTSTAMP:20260423T203038
CREATED:20251116T230638Z
LAST-MODIFIED:20251116T230748Z
UID:10000340-1798794000-1798801200@www.availcannabis.com
SUMMARY:Avail Veterans Oromocto- Red Friday Coffee
DESCRIPTION:
URL:https://www.availcannabis.com/event/avail-veterans-oromocto-red-friday-coffee/2027-01-01/
LOCATION:Avail Oromocto\, 282 Restigouche Rd\, Oromocto\, NB\, E2V 2H5
END:VEVENT
BEGIN:VEVENT
DTSTART;TZID=UTC:20270108T090000
DTEND;TZID=UTC:20270108T110000
DTSTAMP:20260423T203038
CREATED:20251116T230638Z
LAST-MODIFIED:20251116T230748Z
UID:10000341-1799398800-1799406000@www.availcannabis.com
SUMMARY:Avail Veterans Oromocto- Red Friday Coffee
DESCRIPTION:
URL:https://www.availcannabis.com/event/avail-veterans-oromocto-red-friday-coffee/2027-01-08/
LOCATION:Avail Oromocto\, 282 Restigouche Rd\, Oromocto\, NB\, E2V 2H5
END:VEVENT
BEGIN:VEVENT
DTSTART;TZID=UTC:20270115T090000
DTEND;TZID=UTC:20270115T110000
DTSTAMP:20260423T203038
CREATED:20251116T230638Z
LAST-MODIFIED:20251116T230748Z
UID:10000342-1800003600-1800010800@www.availcannabis.com
SUMMARY:Avail Veterans Oromocto- Red Friday Coffee
DESCRIPTION:
URL:https://www.availcannabis.com/event/avail-veterans-oromocto-red-friday-coffee/2027-01-15/
LOCATION:Avail Oromocto\, 282 Restigouche Rd\, Oromocto\, NB\, E2V 2H5
END:VEVENT
BEGIN:VEVENT
DTSTART;TZID=UTC:20270122T090000
DTEND;TZID=UTC:20270122T110000
DTSTAMP:20260423T203038
CREATED:20251116T230638Z
LAST-MODIFIED:20251116T230748Z
UID:10000343-1800608400-1800615600@www.availcannabis.com
SUMMARY:Avail Veterans Oromocto- Red Friday Coffee
DESCRIPTION:
URL:https://www.availcannabis.com/event/avail-veterans-oromocto-red-friday-coffee/2027-01-22/
LOCATION:Avail Oromocto\, 282 Restigouche Rd\, Oromocto\, NB\, E2V 2H5
END:VEVENT
BEGIN:VEVENT
DTSTART;TZID=UTC:20270129T090000
DTEND;TZID=UTC:20270129T110000
DTSTAMP:20260423T203038
CREATED:20251116T230638Z
LAST-MODIFIED:20251116T230748Z
UID:10000344-1801213200-1801220400@www.availcannabis.com
SUMMARY:Avail Veterans Oromocto- Red Friday Coffee
DESCRIPTION:
URL:https://www.availcannabis.com/event/avail-veterans-oromocto-red-friday-coffee/2027-01-29/
LOCATION:Avail Oromocto\, 282 Restigouche Rd\, Oromocto\, NB\, E2V 2H5
END:VEVENT
BEGIN:VEVENT
DTSTART;TZID=UTC:20270205T090000
DTEND;TZID=UTC:20270205T110000
DTSTAMP:20260423T203038
CREATED:20251116T230638Z
LAST-MODIFIED:20251116T230748Z
UID:10000345-1801818000-1801825200@www.availcannabis.com
SUMMARY:Avail Veterans Oromocto- Red Friday Coffee
DESCRIPTION:
URL:https://www.availcannabis.com/event/avail-veterans-oromocto-red-friday-coffee/2027-02-05/
LOCATION:Avail Oromocto\, 282 Restigouche Rd\, Oromocto\, NB\, E2V 2H5
END:VEVENT
BEGIN:VEVENT
DTSTART;TZID=UTC:20270212T090000
DTEND;TZID=UTC:20270212T110000
DTSTAMP:20260423T203038
CREATED:20251116T230638Z
LAST-MODIFIED:20251116T230748Z
UID:10000346-1802422800-1802430000@www.availcannabis.com
SUMMARY:Avail Veterans Oromocto- Red Friday Coffee
DESCRIPTION:
URL:https://www.availcannabis.com/event/avail-veterans-oromocto-red-friday-coffee/2027-02-12/
LOCATION:Avail Oromocto\, 282 Restigouche Rd\, Oromocto\, NB\, E2V 2H5
END:VEVENT
BEGIN:VEVENT
DTSTART;TZID=UTC:20270219T090000
DTEND;TZID=UTC:20270219T110000
DTSTAMP:20260423T203038
CREATED:20251116T230638Z
LAST-MODIFIED:20251116T230748Z
UID:10000347-1803027600-1803034800@www.availcannabis.com
SUMMARY:Avail Veterans Oromocto- Red Friday Coffee
DESCRIPTION:
URL:https://www.availcannabis.com/event/avail-veterans-oromocto-red-friday-coffee/2027-02-19/
LOCATION:Avail Oromocto\, 282 Restigouche Rd\, Oromocto\, NB\, E2V 2H5
END:VEVENT
BEGIN:VEVENT
DTSTART;TZID=UTC:20270226T090000
DTEND;TZID=UTC:20270226T110000
DTSTAMP:20260423T203038
CREATED:20251116T230638Z
LAST-MODIFIED:20251116T230748Z
UID:10000348-1803632400-1803639600@www.availcannabis.com
SUMMARY:Avail Veterans Oromocto- Red Friday Coffee
DESCRIPTION:
URL:https://www.availcannabis.com/event/avail-veterans-oromocto-red-friday-coffee/2027-02-26/
LOCATION:Avail Oromocto\, 282 Restigouche Rd\, Oromocto\, NB\, E2V 2H5
END:VEVENT
BEGIN:VEVENT
DTSTART;TZID=UTC:20270305T090000
DTEND;TZID=UTC:20270305T110000
DTSTAMP:20260423T203038
CREATED:20251116T230638Z
LAST-MODIFIED:20251116T230748Z
UID:10000349-1804237200-1804244400@www.availcannabis.com
SUMMARY:Avail Veterans Oromocto- Red Friday Coffee
DESCRIPTION:
URL:https://www.availcannabis.com/event/avail-veterans-oromocto-red-friday-coffee/2027-03-05/
LOCATION:Avail Oromocto\, 282 Restigouche Rd\, Oromocto\, NB\, E2V 2H5
END:VEVENT
BEGIN:VEVENT
DTSTART;TZID=UTC:20270312T090000
DTEND;TZID=UTC:20270312T110000
DTSTAMP:20260423T203038
CREATED:20251116T230638Z
LAST-MODIFIED:20251116T230748Z
UID:10000350-1804842000-1804849200@www.availcannabis.com
SUMMARY:Avail Veterans Oromocto- Red Friday Coffee
DESCRIPTION:
URL:https://www.availcannabis.com/event/avail-veterans-oromocto-red-friday-coffee/2027-03-12/
LOCATION:Avail Oromocto\, 282 Restigouche Rd\, Oromocto\, NB\, E2V 2H5
END:VEVENT
BEGIN:VEVENT
DTSTART;TZID=UTC:20270319T090000
DTEND;TZID=UTC:20270319T110000
DTSTAMP:20260423T203038
CREATED:20251116T230638Z
LAST-MODIFIED:20251116T230748Z
UID:10000351-1805446800-1805454000@www.availcannabis.com
SUMMARY:Avail Veterans Oromocto- Red Friday Coffee
DESCRIPTION:
URL:https://www.availcannabis.com/event/avail-veterans-oromocto-red-friday-coffee/2027-03-19/
LOCATION:Avail Oromocto\, 282 Restigouche Rd\, Oromocto\, NB\, E2V 2H5
END:VEVENT
BEGIN:VEVENT
DTSTART;TZID=UTC:20270326T090000
DTEND;TZID=UTC:20270326T110000
DTSTAMP:20260423T203038
CREATED:20251116T230638Z
LAST-MODIFIED:20251116T230748Z
UID:10000352-1806051600-1806058800@www.availcannabis.com
SUMMARY:Avail Veterans Oromocto- Red Friday Coffee
DESCRIPTION:
URL:https://www.availcannabis.com/event/avail-veterans-oromocto-red-friday-coffee/2027-03-26/
LOCATION:Avail Oromocto\, 282 Restigouche Rd\, Oromocto\, NB\, E2V 2H5
END:VEVENT
BEGIN:VEVENT
DTSTART;TZID=UTC:20270402T090000
DTEND;TZID=UTC:20270402T110000
DTSTAMP:20260423T203038
CREATED:20251116T230638Z
LAST-MODIFIED:20251116T230748Z
UID:10000353-1806656400-1806663600@www.availcannabis.com
SUMMARY:Avail Veterans Oromocto- Red Friday Coffee
DESCRIPTION:
URL:https://www.availcannabis.com/event/avail-veterans-oromocto-red-friday-coffee/2027-04-02/
LOCATION:Avail Oromocto\, 282 Restigouche Rd\, Oromocto\, NB\, E2V 2H5
END:VEVENT
BEGIN:VEVENT
DTSTART;TZID=UTC:20270409T090000
DTEND;TZID=UTC:20270409T110000
DTSTAMP:20260423T203038
CREATED:20251116T230638Z
LAST-MODIFIED:20251116T230748Z
UID:10000354-1807261200-1807268400@www.availcannabis.com
SUMMARY:Avail Veterans Oromocto- Red Friday Coffee
DESCRIPTION:
URL:https://www.availcannabis.com/event/avail-veterans-oromocto-red-friday-coffee/2027-04-09/
LOCATION:Avail Oromocto\, 282 Restigouche Rd\, Oromocto\, NB\, E2V 2H5
END:VEVENT
BEGIN:VEVENT
DTSTART;TZID=UTC:20270416T090000
DTEND;TZID=UTC:20270416T110000
DTSTAMP:20260423T203038
CREATED:20251116T230638Z
LAST-MODIFIED:20251116T230748Z
UID:10000355-1807866000-1807873200@www.availcannabis.com
SUMMARY:Avail Veterans Oromocto- Red Friday Coffee
DESCRIPTION:
URL:https://www.availcannabis.com/event/avail-veterans-oromocto-red-friday-coffee/2027-04-16/
LOCATION:Avail Oromocto\, 282 Restigouche Rd\, Oromocto\, NB\, E2V 2H5
END:VEVENT
BEGIN:VEVENT
DTSTART;TZID=UTC:20270423T090000
DTEND;TZID=UTC:20270423T110000
DTSTAMP:20260423T203038
CREATED:20251116T230638Z
LAST-MODIFIED:20251116T230748Z
UID:10000356-1808470800-1808478000@www.availcannabis.com
SUMMARY:Avail Veterans Oromocto- Red Friday Coffee
DESCRIPTION:
URL:https://www.availcannabis.com/event/avail-veterans-oromocto-red-friday-coffee/2027-04-23/
LOCATION:Avail Oromocto\, 282 Restigouche Rd\, Oromocto\, NB\, E2V 2H5
END:VEVENT
BEGIN:VEVENT
DTSTART;TZID=UTC:20270430T090000
DTEND;TZID=UTC:20270430T110000
DTSTAMP:20260423T203038
CREATED:20251116T230638Z
LAST-MODIFIED:20251116T230748Z
UID:10000357-1809075600-1809082800@www.availcannabis.com
SUMMARY:Avail Veterans Oromocto- Red Friday Coffee
DESCRIPTION:
URL:https://www.availcannabis.com/event/avail-veterans-oromocto-red-friday-coffee/2027-04-30/
LOCATION:Avail Oromocto\, 282 Restigouche Rd\, Oromocto\, NB\, E2V 2H5
END:VEVENT
END:VCALENDAR