BEGIN:VCALENDAR
VERSION:2.0
PRODID:-//Avail Cannabis - ECPv6.15.20//NONSGML v1.0//EN
CALSCALE:GREGORIAN
METHOD:PUBLISH
X-WR-CALNAME:Avail Cannabis
X-ORIGINAL-URL:https://www.availcannabis.com
X-WR-CALDESC:Events for Avail Cannabis
REFRESH-INTERVAL;VALUE=DURATION:PT1H
X-Robots-Tag:noindex
X-PUBLISHED-TTL:PT1H
BEGIN:VTIMEZONE
TZID:UTC
BEGIN:STANDARD
TZOFFSETFROM:+0000
TZOFFSETTO:+0000
TZNAME:UTC
DTSTART:20260101T000000
END:STANDARD
END:VTIMEZONE
BEGIN:VEVENT
DTSTART;TZID=UTC:20271203T090000
DTEND;TZID=UTC:20271203T110000
DTSTAMP:20260424T025900
CREATED:20251116T230638Z
LAST-MODIFIED:20251116T230748Z
UID:10000388-1827824400-1827831600@www.availcannabis.com
SUMMARY:Avail Veterans Oromocto- Red Friday Coffee
DESCRIPTION:
URL:https://www.availcannabis.com/event/avail-veterans-oromocto-red-friday-coffee/2027-12-03/
LOCATION:Avail Oromocto\, 282 Restigouche Rd\, Oromocto\, NB\, E2V 2H5
END:VEVENT
BEGIN:VEVENT
DTSTART;TZID=UTC:20271210T090000
DTEND;TZID=UTC:20271210T110000
DTSTAMP:20260424T025900
CREATED:20251116T230638Z
LAST-MODIFIED:20251116T230748Z
UID:10000389-1828429200-1828436400@www.availcannabis.com
SUMMARY:Avail Veterans Oromocto- Red Friday Coffee
DESCRIPTION:
URL:https://www.availcannabis.com/event/avail-veterans-oromocto-red-friday-coffee/2027-12-10/
LOCATION:Avail Oromocto\, 282 Restigouche Rd\, Oromocto\, NB\, E2V 2H5
END:VEVENT
BEGIN:VEVENT
DTSTART;TZID=UTC:20271217T090000
DTEND;TZID=UTC:20271217T110000
DTSTAMP:20260424T025900
CREATED:20251116T230638Z
LAST-MODIFIED:20251116T230748Z
UID:10000390-1829034000-1829041200@www.availcannabis.com
SUMMARY:Avail Veterans Oromocto- Red Friday Coffee
DESCRIPTION:
URL:https://www.availcannabis.com/event/avail-veterans-oromocto-red-friday-coffee/2027-12-17/
LOCATION:Avail Oromocto\, 282 Restigouche Rd\, Oromocto\, NB\, E2V 2H5
END:VEVENT
BEGIN:VEVENT
DTSTART;TZID=UTC:20271224T090000
DTEND;TZID=UTC:20271224T110000
DTSTAMP:20260424T025900
CREATED:20251116T230638Z
LAST-MODIFIED:20251116T230748Z
UID:10000391-1829638800-1829646000@www.availcannabis.com
SUMMARY:Avail Veterans Oromocto- Red Friday Coffee
DESCRIPTION:
URL:https://www.availcannabis.com/event/avail-veterans-oromocto-red-friday-coffee/2027-12-24/
LOCATION:Avail Oromocto\, 282 Restigouche Rd\, Oromocto\, NB\, E2V 2H5
END:VEVENT
BEGIN:VEVENT
DTSTART;TZID=UTC:20271231T090000
DTEND;TZID=UTC:20271231T110000
DTSTAMP:20260424T025900
CREATED:20251116T230638Z
LAST-MODIFIED:20251116T230748Z
UID:10000392-1830243600-1830250800@www.availcannabis.com
SUMMARY:Avail Veterans Oromocto- Red Friday Coffee
DESCRIPTION:
URL:https://www.availcannabis.com/event/avail-veterans-oromocto-red-friday-coffee/2027-12-31/
LOCATION:Avail Oromocto\, 282 Restigouche Rd\, Oromocto\, NB\, E2V 2H5
END:VEVENT
BEGIN:VEVENT
DTSTART;TZID=UTC:20280107T090000
DTEND;TZID=UTC:20280107T110000
DTSTAMP:20260424T025900
CREATED:20251116T230638Z
LAST-MODIFIED:20251116T230748Z
UID:10000393-1830848400-1830855600@www.availcannabis.com
SUMMARY:Avail Veterans Oromocto- Red Friday Coffee
DESCRIPTION:
URL:https://www.availcannabis.com/event/avail-veterans-oromocto-red-friday-coffee/2028-01-07/
LOCATION:Avail Oromocto\, 282 Restigouche Rd\, Oromocto\, NB\, E2V 2H5
END:VEVENT
BEGIN:VEVENT
DTSTART;TZID=UTC:20280114T090000
DTEND;TZID=UTC:20280114T110000
DTSTAMP:20260424T025900
CREATED:20251116T230638Z
LAST-MODIFIED:20251116T230748Z
UID:10000394-1831453200-1831460400@www.availcannabis.com
SUMMARY:Avail Veterans Oromocto- Red Friday Coffee
DESCRIPTION:
URL:https://www.availcannabis.com/event/avail-veterans-oromocto-red-friday-coffee/2028-01-14/
LOCATION:Avail Oromocto\, 282 Restigouche Rd\, Oromocto\, NB\, E2V 2H5
END:VEVENT
BEGIN:VEVENT
DTSTART;TZID=UTC:20280121T090000
DTEND;TZID=UTC:20280121T110000
DTSTAMP:20260424T025900
CREATED:20251116T230638Z
LAST-MODIFIED:20251116T230748Z
UID:10000395-1832058000-1832065200@www.availcannabis.com
SUMMARY:Avail Veterans Oromocto- Red Friday Coffee
DESCRIPTION:
URL:https://www.availcannabis.com/event/avail-veterans-oromocto-red-friday-coffee/2028-01-21/
LOCATION:Avail Oromocto\, 282 Restigouche Rd\, Oromocto\, NB\, E2V 2H5
END:VEVENT
BEGIN:VEVENT
DTSTART;TZID=UTC:20280128T090000
DTEND;TZID=UTC:20280128T110000
DTSTAMP:20260424T025900
CREATED:20251116T230638Z
LAST-MODIFIED:20251116T230748Z
UID:10000396-1832662800-1832670000@www.availcannabis.com
SUMMARY:Avail Veterans Oromocto- Red Friday Coffee
DESCRIPTION:
URL:https://www.availcannabis.com/event/avail-veterans-oromocto-red-friday-coffee/2028-01-28/
LOCATION:Avail Oromocto\, 282 Restigouche Rd\, Oromocto\, NB\, E2V 2H5
END:VEVENT
BEGIN:VEVENT
DTSTART;TZID=UTC:20280204T090000
DTEND;TZID=UTC:20280204T110000
DTSTAMP:20260424T025900
CREATED:20251116T230638Z
LAST-MODIFIED:20251116T230748Z
UID:10000397-1833267600-1833274800@www.availcannabis.com
SUMMARY:Avail Veterans Oromocto- Red Friday Coffee
DESCRIPTION:
URL:https://www.availcannabis.com/event/avail-veterans-oromocto-red-friday-coffee/2028-02-04/
LOCATION:Avail Oromocto\, 282 Restigouche Rd\, Oromocto\, NB\, E2V 2H5
END:VEVENT
BEGIN:VEVENT
DTSTART;TZID=UTC:20280211T090000
DTEND;TZID=UTC:20280211T110000
DTSTAMP:20260424T025900
CREATED:20251116T230638Z
LAST-MODIFIED:20251116T230748Z
UID:10000398-1833872400-1833879600@www.availcannabis.com
SUMMARY:Avail Veterans Oromocto- Red Friday Coffee
DESCRIPTION:
URL:https://www.availcannabis.com/event/avail-veterans-oromocto-red-friday-coffee/2028-02-11/
LOCATION:Avail Oromocto\, 282 Restigouche Rd\, Oromocto\, NB\, E2V 2H5
END:VEVENT
BEGIN:VEVENT
DTSTART;TZID=UTC:20280218T090000
DTEND;TZID=UTC:20280218T110000
DTSTAMP:20260424T025900
CREATED:20251116T230638Z
LAST-MODIFIED:20251116T230748Z
UID:10000399-1834477200-1834484400@www.availcannabis.com
SUMMARY:Avail Veterans Oromocto- Red Friday Coffee
DESCRIPTION:
URL:https://www.availcannabis.com/event/avail-veterans-oromocto-red-friday-coffee/2028-02-18/
LOCATION:Avail Oromocto\, 282 Restigouche Rd\, Oromocto\, NB\, E2V 2H5
END:VEVENT
BEGIN:VEVENT
DTSTART;TZID=UTC:20280225T090000
DTEND;TZID=UTC:20280225T110000
DTSTAMP:20260424T025900
CREATED:20251116T230638Z
LAST-MODIFIED:20251116T230748Z
UID:10000400-1835082000-1835089200@www.availcannabis.com
SUMMARY:Avail Veterans Oromocto- Red Friday Coffee
DESCRIPTION:
URL:https://www.availcannabis.com/event/avail-veterans-oromocto-red-friday-coffee/2028-02-25/
LOCATION:Avail Oromocto\, 282 Restigouche Rd\, Oromocto\, NB\, E2V 2H5
END:VEVENT
BEGIN:VEVENT
DTSTART;TZID=UTC:20280303T090000
DTEND;TZID=UTC:20280303T110000
DTSTAMP:20260424T025900
CREATED:20251116T230638Z
LAST-MODIFIED:20251116T230748Z
UID:10000401-1835686800-1835694000@www.availcannabis.com
SUMMARY:Avail Veterans Oromocto- Red Friday Coffee
DESCRIPTION:
URL:https://www.availcannabis.com/event/avail-veterans-oromocto-red-friday-coffee/2028-03-03/
LOCATION:Avail Oromocto\, 282 Restigouche Rd\, Oromocto\, NB\, E2V 2H5
END:VEVENT
BEGIN:VEVENT
DTSTART;TZID=UTC:20280310T090000
DTEND;TZID=UTC:20280310T110000
DTSTAMP:20260424T025900
CREATED:20251116T230638Z
LAST-MODIFIED:20251116T230748Z
UID:10000402-1836291600-1836298800@www.availcannabis.com
SUMMARY:Avail Veterans Oromocto- Red Friday Coffee
DESCRIPTION:
URL:https://www.availcannabis.com/event/avail-veterans-oromocto-red-friday-coffee/2028-03-10/
LOCATION:Avail Oromocto\, 282 Restigouche Rd\, Oromocto\, NB\, E2V 2H5
END:VEVENT
BEGIN:VEVENT
DTSTART;TZID=UTC:20280317T090000
DTEND;TZID=UTC:20280317T110000
DTSTAMP:20260424T025900
CREATED:20251116T230638Z
LAST-MODIFIED:20251116T230748Z
UID:10000403-1836896400-1836903600@www.availcannabis.com
SUMMARY:Avail Veterans Oromocto- Red Friday Coffee
DESCRIPTION:
URL:https://www.availcannabis.com/event/avail-veterans-oromocto-red-friday-coffee/2028-03-17/
LOCATION:Avail Oromocto\, 282 Restigouche Rd\, Oromocto\, NB\, E2V 2H5
END:VEVENT
BEGIN:VEVENT
DTSTART;TZID=UTC:20280324T090000
DTEND;TZID=UTC:20280324T110000
DTSTAMP:20260424T025900
CREATED:20251116T230638Z
LAST-MODIFIED:20251116T230748Z
UID:10000404-1837501200-1837508400@www.availcannabis.com
SUMMARY:Avail Veterans Oromocto- Red Friday Coffee
DESCRIPTION:
URL:https://www.availcannabis.com/event/avail-veterans-oromocto-red-friday-coffee/2028-03-24/
LOCATION:Avail Oromocto\, 282 Restigouche Rd\, Oromocto\, NB\, E2V 2H5
END:VEVENT
BEGIN:VEVENT
DTSTART;TZID=UTC:20280331T090000
DTEND;TZID=UTC:20280331T110000
DTSTAMP:20260424T025900
CREATED:20251116T230638Z
LAST-MODIFIED:20251116T230748Z
UID:10000405-1838106000-1838113200@www.availcannabis.com
SUMMARY:Avail Veterans Oromocto- Red Friday Coffee
DESCRIPTION:
URL:https://www.availcannabis.com/event/avail-veterans-oromocto-red-friday-coffee/2028-03-31/
LOCATION:Avail Oromocto\, 282 Restigouche Rd\, Oromocto\, NB\, E2V 2H5
END:VEVENT
BEGIN:VEVENT
DTSTART;TZID=UTC:20280407T090000
DTEND;TZID=UTC:20280407T110000
DTSTAMP:20260424T025900
CREATED:20251116T230638Z
LAST-MODIFIED:20251116T230748Z
UID:10000406-1838710800-1838718000@www.availcannabis.com
SUMMARY:Avail Veterans Oromocto- Red Friday Coffee
DESCRIPTION:
URL:https://www.availcannabis.com/event/avail-veterans-oromocto-red-friday-coffee/2028-04-07/
LOCATION:Avail Oromocto\, 282 Restigouche Rd\, Oromocto\, NB\, E2V 2H5
END:VEVENT
BEGIN:VEVENT
DTSTART;TZID=UTC:20280414T090000
DTEND;TZID=UTC:20280414T110000
DTSTAMP:20260424T025900
CREATED:20251116T230638Z
LAST-MODIFIED:20251116T230748Z
UID:10000407-1839315600-1839322800@www.availcannabis.com
SUMMARY:Avail Veterans Oromocto- Red Friday Coffee
DESCRIPTION:
URL:https://www.availcannabis.com/event/avail-veterans-oromocto-red-friday-coffee/2028-04-14/
LOCATION:Avail Oromocto\, 282 Restigouche Rd\, Oromocto\, NB\, E2V 2H5
END:VEVENT
BEGIN:VEVENT
DTSTART;TZID=UTC:20280421T090000
DTEND;TZID=UTC:20280421T110000
DTSTAMP:20260424T025900
CREATED:20251116T230638Z
LAST-MODIFIED:20251116T230748Z
UID:10000408-1839920400-1839927600@www.availcannabis.com
SUMMARY:Avail Veterans Oromocto- Red Friday Coffee
DESCRIPTION:
URL:https://www.availcannabis.com/event/avail-veterans-oromocto-red-friday-coffee/2028-04-21/
LOCATION:Avail Oromocto\, 282 Restigouche Rd\, Oromocto\, NB\, E2V 2H5
END:VEVENT
BEGIN:VEVENT
DTSTART;TZID=UTC:20280428T090000
DTEND;TZID=UTC:20280428T110000
DTSTAMP:20260424T025900
CREATED:20251116T230638Z
LAST-MODIFIED:20251116T230748Z
UID:10000409-1840525200-1840532400@www.availcannabis.com
SUMMARY:Avail Veterans Oromocto- Red Friday Coffee
DESCRIPTION:
URL:https://www.availcannabis.com/event/avail-veterans-oromocto-red-friday-coffee/2028-04-28/
LOCATION:Avail Oromocto\, 282 Restigouche Rd\, Oromocto\, NB\, E2V 2H5
END:VEVENT
BEGIN:VEVENT
DTSTART;TZID=UTC:20280505T090000
DTEND;TZID=UTC:20280505T110000
DTSTAMP:20260424T025900
CREATED:20251116T230638Z
LAST-MODIFIED:20251116T230748Z
UID:10000410-1841130000-1841137200@www.availcannabis.com
SUMMARY:Avail Veterans Oromocto- Red Friday Coffee
DESCRIPTION:
URL:https://www.availcannabis.com/event/avail-veterans-oromocto-red-friday-coffee/2028-05-05/
LOCATION:Avail Oromocto\, 282 Restigouche Rd\, Oromocto\, NB\, E2V 2H5
END:VEVENT
BEGIN:VEVENT
DTSTART;TZID=UTC:20280512T090000
DTEND;TZID=UTC:20280512T110000
DTSTAMP:20260424T025900
CREATED:20251116T230638Z
LAST-MODIFIED:20251116T230748Z
UID:10000411-1841734800-1841742000@www.availcannabis.com
SUMMARY:Avail Veterans Oromocto- Red Friday Coffee
DESCRIPTION:
URL:https://www.availcannabis.com/event/avail-veterans-oromocto-red-friday-coffee/2028-05-12/
LOCATION:Avail Oromocto\, 282 Restigouche Rd\, Oromocto\, NB\, E2V 2H5
END:VEVENT
BEGIN:VEVENT
DTSTART;TZID=UTC:20280519T090000
DTEND;TZID=UTC:20280519T110000
DTSTAMP:20260424T025900
CREATED:20251116T230638Z
LAST-MODIFIED:20251116T230748Z
UID:10000412-1842339600-1842346800@www.availcannabis.com
SUMMARY:Avail Veterans Oromocto- Red Friday Coffee
DESCRIPTION:
URL:https://www.availcannabis.com/event/avail-veterans-oromocto-red-friday-coffee/2028-05-19/
LOCATION:Avail Oromocto\, 282 Restigouche Rd\, Oromocto\, NB\, E2V 2H5
END:VEVENT
BEGIN:VEVENT
DTSTART;TZID=UTC:20280526T090000
DTEND;TZID=UTC:20280526T110000
DTSTAMP:20260424T025900
CREATED:20251116T230638Z
LAST-MODIFIED:20251116T230748Z
UID:10000413-1842944400-1842951600@www.availcannabis.com
SUMMARY:Avail Veterans Oromocto- Red Friday Coffee
DESCRIPTION:
URL:https://www.availcannabis.com/event/avail-veterans-oromocto-red-friday-coffee/2028-05-26/
LOCATION:Avail Oromocto\, 282 Restigouche Rd\, Oromocto\, NB\, E2V 2H5
END:VEVENT
BEGIN:VEVENT
DTSTART;TZID=UTC:20280602T090000
DTEND;TZID=UTC:20280602T110000
DTSTAMP:20260424T025900
CREATED:20251116T230638Z
LAST-MODIFIED:20251116T230748Z
UID:10000414-1843549200-1843556400@www.availcannabis.com
SUMMARY:Avail Veterans Oromocto- Red Friday Coffee
DESCRIPTION:
URL:https://www.availcannabis.com/event/avail-veterans-oromocto-red-friday-coffee/2028-06-02/
LOCATION:Avail Oromocto\, 282 Restigouche Rd\, Oromocto\, NB\, E2V 2H5
END:VEVENT
BEGIN:VEVENT
DTSTART;TZID=UTC:20280609T090000
DTEND;TZID=UTC:20280609T110000
DTSTAMP:20260424T025900
CREATED:20251116T230638Z
LAST-MODIFIED:20251116T230748Z
UID:10000415-1844154000-1844161200@www.availcannabis.com
SUMMARY:Avail Veterans Oromocto- Red Friday Coffee
DESCRIPTION:
URL:https://www.availcannabis.com/event/avail-veterans-oromocto-red-friday-coffee/2028-06-09/
LOCATION:Avail Oromocto\, 282 Restigouche Rd\, Oromocto\, NB\, E2V 2H5
END:VEVENT
BEGIN:VEVENT
DTSTART;TZID=UTC:20280616T090000
DTEND;TZID=UTC:20280616T110000
DTSTAMP:20260424T025900
CREATED:20251116T230638Z
LAST-MODIFIED:20251116T230748Z
UID:10000416-1844758800-1844766000@www.availcannabis.com
SUMMARY:Avail Veterans Oromocto- Red Friday Coffee
DESCRIPTION:
URL:https://www.availcannabis.com/event/avail-veterans-oromocto-red-friday-coffee/2028-06-16/
LOCATION:Avail Oromocto\, 282 Restigouche Rd\, Oromocto\, NB\, E2V 2H5
END:VEVENT
BEGIN:VEVENT
DTSTART;TZID=UTC:20280623T090000
DTEND;TZID=UTC:20280623T110000
DTSTAMP:20260424T025900
CREATED:20251116T230638Z
LAST-MODIFIED:20251116T230748Z
UID:10000417-1845363600-1845370800@www.availcannabis.com
SUMMARY:Avail Veterans Oromocto- Red Friday Coffee
DESCRIPTION:
URL:https://www.availcannabis.com/event/avail-veterans-oromocto-red-friday-coffee/2028-06-23/
LOCATION:Avail Oromocto\, 282 Restigouche Rd\, Oromocto\, NB\, E2V 2H5
END:VEVENT
END:VCALENDAR